BEGIN_USGS_DOQ_HEADER *
QUADRANGLE_NAME "WHITE HILLS" *
QUADRANT SW *
NORTH_LATITUDE 35 48 45.000 *
WEST_LONGITUDE -117 45 00.000 *
SOUTH_LATITUDE 35 45 00.000 *
EAST_LONGITUDE -117 41 15.000 *
PRODUCTION_DATE 1998 05 05 *
RASTER_ORDER LEFT_RIGHT/TOP_BOTTOM *
BAND_ORGANIZATION "SINGLE FILE" *
BAND_CONTENT BLACK&WHITE *
BITS_PER_PIXEL 8 *
SAMPLES_AND_LINES 6420 7590 *
HORIZONTAL_DATUM NAD83 *
HORIZONTAL_COORDINATE_SYSTEM UTM *
COORDINATE_ZONE 11 *
HORIZONTAL_UNITS METERS *
HORIZONTAL_RESOLUTION 1.000 *
SECONDARY_HORIZONTAL_DATUM NAD27 *
XY_ORIGIN 431790.000 3963720.000 *
SECONDARY_XY_ORIGIN 431869.855 3963524.837 *
NATION US *
STATE CA *
NW_QUAD_CORNER_XY 432244.021 3963411.782 *
NE_QUAD_CORNER_XY 437890.442 3963370.333 *
SE_QUAD_CORNER_XY 437841.806 3956438.263 *
SW_QUAD_CORNER_XY 432190.962 3956479.681 *
SECONDARY_NW_QUAD_XY 432242.420 3963211.843 *
SECONDARY_NE_QUAD_XY 437888.975 3963170.394 *
SECONDARY_SE_QUAD_XY 437840.340 3956238.502 *
SECONDARY_SW_QUAD_XY 432189.363 3956279.921 *
RMSE_XY 1.280 *
IMAGE_SOURCE "BLACK AND WHITE FILM" *
SOURCE_IMAGE_ID "NAPP 6850 38" *
SOURCE_IMAGE_DATE 1994 05 28 *
SOURCE_DEM_DATE 1983 01 01 *
AGENCY "WESTERN MAPPING CENTER (WMC)" *
PRODUCER "ANALYTICAL SURVEYS INC." *
PRODUCTION_SYSTEM "ORBIT OR_RECTIFY V.5.2" *
STANDARD_VERSION 1996 12 *
METADATA_DATE 1998 05 05 *
DATA_FILE_SIZE 48734220 *
BYTE_COUNT 6420 * * * * * * * * * * * * * * * * * * * * * * * * * * * * * * * * * * * * * *
END_USGS_HEADER *
