BEGIN_USGS_DOQ_HEADER *
QUADRANGLE_NAME "NINEMILE CANYON" *
QUADRANT NW *
NORTH_LATITUDE 35 52 30.000 *
WEST_LONGITUDE -118 00 00.000 *
SOUTH_LATITUDE 35 48 45.000 *
EAST_LONGITUDE -117 56 15.000 *
PRODUCTION_DATE 1998 05 19 *
RASTER_ORDER LEFT_RIGHT/TOP_BOTTOM *
BAND_ORGANIZATION "SINGLE FILE" *
BAND_CONTENT BLACK&WHITE *
BITS_PER_PIXEL 8 *
SAMPLES_AND_LINES 6420 7620 *
HORIZONTAL_DATUM NAD83 *
HORIZONTAL_COORDINATE_SYSTEM UTM *
COORDINATE_ZONE 11 *
HORIZONTAL_UNITS METERS *
HORIZONTAL_RESOLUTION 1.000 *
SECONDARY_HORIZONTAL_DATUM NAD27 *
XY_ORIGIN 409260.000 3970860.000 *
SECONDARY_XY_ORIGIN 409340.021 3970664.849 *
NATION US *
STATE CA *
NW_QUAD_CORNER_XY 409728.913 3970545.943 *
NE_QUAD_CORNER_XY 415371.021 3970490.033 *
SE_QUAD_CORNER_XY 415304.593 3963557.756 *
SW_QUAD_CORNER_XY 409658.056 3963613.625 *
SECONDARY_NW_QUAD_XY 409726.777 3970345.832 *
SECONDARY_NE_QUAD_XY 415369.018 3970289.921 *
SECONDARY_SE_QUAD_XY 415302.592 3963357.821 *
SECONDARY_SW_QUAD_XY 409655.921 3963413.692 *
RMSE_XY 2.956 *
IMAGE_SOURCE "BLACK AND WHITE FILM" *
SOURCE_IMAGE_ID "NAPP 6851 4" *
SOURCE_IMAGE_DATE 1994 05 28 *
SOURCE_IMAGE_ID "NAPP 6851 3" *
SOURCE_IMAGE_DATE 1994 05 28 *
SOURCE_IMAGE_ID "NAPP 6851 47" *
SOURCE_IMAGE_DATE 1994 05 28 *
SOURCE_DEM_DATE 1982 01 01 *
AGENCY "WESTERN MAPPING CENTER (WMC)" *
PRODUCER "ANALYTICAL SURVEYS INC." *
PRODUCTION_SYSTEM "ORBIT OR_RECTIFY V.5.2" *
STANDARD_VERSION 1996 12 *
METADATA_DATE 1998 05 19 *
DATA_FILE_SIZE 48926820 *
BYTE_COUNT 6420 * * * * * * * * * * * * * * * * * * * * * * * * * * * * * * * * * *
END_USGS_HEADER *
