BEGIN_USGS_DOQ_HEADER *
QUADRANGLE_NAME "NINEMILE CANYON" *
QUADRANT SE *
NORTH_LATITUDE 35 48 45.000 *
WEST_LONGITUDE -117 56 15.000 *
SOUTH_LATITUDE 35 45 00.000 *
EAST_LONGITUDE -117 52 30.000 *
PRODUCTION_DATE 1998 05 19 *
RASTER_ORDER LEFT_RIGHT/TOP_BOTTOM *
BAND_ORGANIZATION "SINGLE FILE" *
BAND_CONTENT BLACK&WHITE *
BITS_PER_PIXEL 8 *
SAMPLES_AND_LINES 6420 7620 *
HORIZONTAL_DATUM NAD83 *
HORIZONTAL_COORDINATE_SYSTEM UTM *
COORDINATE_ZONE 11 *
HORIZONTAL_UNITS METERS *
HORIZONTAL_RESOLUTION 1.000 *
SECONDARY_HORIZONTAL_DATUM NAD27 *
XY_ORIGIN 414840.000 3963870.000 *
SECONDARY_XY_ORIGIN 414919.964 3963674.851 *
NATION US *
STATE CA *
NW_QUAD_CORNER_XY 415304.593 3963557.756 *
NE_QUAD_CORNER_XY 420951.098 3963505.493 *
SE_QUAD_CORNER_XY 420889.195 3956573.324 *
SW_QUAD_CORNER_XY 415238.267 3956625.550 *
SECONDARY_NW_QUAD_XY 415302.592 3963357.821 *
SECONDARY_NE_QUAD_XY 420949.230 3963305.557 *
SECONDARY_SE_QUAD_XY 420887.328 3956373.567 *
SECONDARY_SW_QUAD_XY 415236.267 3956425.793 *
RMSE_XY 1.752 *
IMAGE_SOURCE "BLACK AND WHITE FILM" *
SOURCE_IMAGE_ID "NAPP 6851 49" *
SOURCE_IMAGE_DATE 1994 05 28 *
SOURCE_IMAGE_ID "NAPP 6851 47" *
SOURCE_IMAGE_DATE 1994 05 28 *
SOURCE_IMAGE_ID "NAPP 6851 2" *
SOURCE_IMAGE_DATE 1994 05 28 *
SOURCE_DEM_DATE 1982 01 01 *
AGENCY "WESTERN MAPPING CENTER (WMC)" *
PRODUCER "ANALYTICAL SURVEYS INC." *
PRODUCTION_SYSTEM "ORBIT OR_RECTIFY V.5.2" *
STANDARD_VERSION 1996 12 *
METADATA_DATE 1998 05 19 *
DATA_FILE_SIZE 48926820 *
BYTE_COUNT 6420 * * * * * * * * * * * * * * * * * * * * * * * * * * * * * * * * * *
END_USGS_HEADER *
