BEGIN_USGS_DOQ_HEADER *
QUADRANGLE_NAME "NINEMILE CANYON" *
QUADRANT SW *
NORTH_LATITUDE 35 48 45.000 *
WEST_LONGITUDE -118 00 00.000 *
SOUTH_LATITUDE 35 45 00.000 *
EAST_LONGITUDE -117 56 15.000 *
PRODUCTION_DATE 1998 05 19 *
RASTER_ORDER LEFT_RIGHT/TOP_BOTTOM *
BAND_ORGANIZATION "SINGLE FILE" *
BAND_CONTENT BLACK&WHITE *
BITS_PER_PIXEL 8 *
SAMPLES_AND_LINES 6420 7620 *
HORIZONTAL_DATUM NAD83 *
HORIZONTAL_COORDINATE_SYSTEM UTM *
COORDINATE_ZONE 11 *
HORIZONTAL_UNITS METERS *
HORIZONTAL_RESOLUTION 1.000 *
SECONDARY_HORIZONTAL_DATUM NAD27 *
XY_ORIGIN 409200.000 3963930.000 *
SECONDARY_XY_ORIGIN 409279.999 3963734.855 *
NATION US *
STATE CA *
NW_QUAD_CORNER_XY 409658.056 3963613.625 *
NE_QUAD_CORNER_XY 415304.593 3963557.756 *
SE_QUAD_CORNER_XY 415238.267 3956625.550 *
SW_QUAD_CORNER_XY 409587.306 3956681.378 *
SECONDARY_NW_QUAD_XY 409655.921 3963413.692 *
SECONDARY_NE_QUAD_XY 415302.592 3963357.821 *
SECONDARY_SE_QUAD_XY 415236.267 3956425.793 *
SECONDARY_SW_QUAD_XY 409585.174 3956481.622 *
RMSE_XY 3.105 *
IMAGE_SOURCE "BLACK AND WHITE FILM" *
SOURCE_IMAGE_ID "NAPP 6851 2" *
SOURCE_IMAGE_DATE 1994 05 28 *
SOURCE_IMAGE_ID "NAPP 6851 3" *
SOURCE_IMAGE_DATE 1994 05 28 *
SOURCE_IMAGE_ID "NAPP 6851 1" *
SOURCE_IMAGE_DATE 1994 05 28 *
SOURCE_IMAGE_ID "NAPP 6851 49" *
SOURCE_IMAGE_DATE 1994 05 28 *
SOURCE_IMAGE_ID "NAPP 6872 140" *
SOURCE_IMAGE_DATE 1995 09 30 *
SOURCE_DEM_DATE 1982 01 01 *
AGENCY "WESTERN MAPPING CENTER (WMC)" *
PRODUCER "ANALYTICAL SURVEYS INC." *
PRODUCTION_SYSTEM "ORBIT OR_RECTIFY V.5.2" *
STANDARD_VERSION 1996 12 *
METADATA_DATE 1998 05 19 *
DATA_FILE_SIZE 48926820 *
BYTE_COUNT 6420 * * * * * * * * * * * * * * * * * * * * * * * * * * * * * *
END_USGS_HEADER *
