BEGIN_USGS_DOQ_HEADER *
QUADRANGLE_NAME "MANLY FALL" 3.45 or 7.5-min. name*
QUADRANT NE quadrant indicator if cell size = 3.75-minutes*
WEST_LONGITUDE -117 11 15.000 signed deg min sec SDDD MM SS.SSS*
EAST_LONGITUDE -117 7 30.000 signed deg min sec SDDD MM SS.SSS*
NORTH_LATITUDE 36 0 0.000 signed deg min sec SDDD MM SS.SSS*
SOUTH_LATITUDE 35 56 15.000 signed deg min sec SDDD MM SS.SSS*
PRODUCTION_DATE 1997 1 16 yyyy mm dd*
RASTER_ORDER LEFT_RIGHT/TOP_BOTTOM video display order*
BAND_ORGANIZATION "SINGLE FILE" single file or BSQ, or BIL or BIP*
BAND_CONTENT BLACK&WHITE black&white or red green blue*
BITS_PER_PIXEL 8 radiometric resolution*
SAMPLES_AND_LINES 6360 7560 number of columns and rows*
HORIZONTAL_DATUM NAD83 primary horizontal datum*
HORIZONTAL_COORDINATE_SYSTEM UTM *
COORDINATE_ZONE 11 coordinate system zone number*
HORIZONTAL_UNITS METERS coordinate system units*
HORIZONTAL_RESOLUTION 1.00 pixel horiz. ground sample distance*
SECONDARY_HORIZONTAL_DATUM NAD27 secondary horizontal datum*
XY_ORIGIN 482700.000 3984270.000 coord. of upper left pixel pri. datum*
SECONDARY_XY_ORIGIN 482779.682 3984074.947 coord upper left pixel sec datum*
NATION US nation code*
STATE CA state fip code*
NW_QUAD_CORNER_XY 483101.061 3983964.706 XY coords. of pri. NW quad corner*
NE_QUAD_CORNER_XY 488734.044 3983955.677 XY coords. of pri. NE quad corner*
SE_QUAD_CORNER_XY 488725.162 3977023.544 XY coords. of pri. SE quad corner*
SW_QUAD_CORNER_XY 483087.737 3977032.567 XY coords. of pri. SW quad corner*
SECONDARY_NW_QUAD_XY 483100.660 3983764.232 XY coords. - sec. NW quad cor.*
SECONDARY_NE_QUAD_XY 488733.777 3983755.202 XY coords. - sec. NE quad cor.*
SECONDARY_SE_QUAD_XY 488724.894 3976823.246 XY coords. - sec. SE quad cor.*
SECONDARY_SW_QUAD_XY 483087.336 3976832.269 XY coords. - sec. SW quad cor.*
RMSE_XY 2.10 doq horiz. accuracy*
IMAGE_SOURCE "BLACK AND WHITE FILM" b&w, cir, natural color, other*
SOURCE_IMAGE_ID "NAPP 6879 240" source image id*
SOURCE_IMAGE_DATE 1995 10 7 source image date as yyyy mm dd*
SOURCE_DEM_DATE 1997 1 16 source dem date yyyy mm dd*
AGENCY "WESTERN MAPPING CENTER (WMC)" oversight agency*
PRODUCER "Analytical Surveys" producer/contractor*
PRODUCTION_SYSTEM "ORBIT OR_RECTIFY V.5.2" production system*
STANDARD_VERSION 1996 12 version of DOQ standard*
METADATA_DATE 1997 6 10 date created or changed, yyyy mm dd*
DATA_FILE_SIZE 48087960 data set size in bytes*
BYTE_COUNT 6360 header byte count* * * * * * * * * * * * * * * * * * * * * * * * * * * * * * * * * * * * *
END_USGS_HEADER *
