BEGIN_USGS_DOQ_HEADER *
QUADRANGLE_NAME "SLATE RANGE CROSSING" *
QUADRANT NW *
NORTH_LATITUDE 36 00 00.000 *
WEST_LONGITUDE -117 22 30.000 *
SOUTH_LATITUDE 35 56 15.000 *
EAST_LONGITUDE -117 18 45.000 *
PRODUCTION_DATE 1998 05 19 *
RASTER_ORDER LEFT_RIGHT/TOP_BOTTOM *
BAND_ORGANIZATION "SINGLE FILE" *
BAND_CONTENT BLACK&WHITE *
BITS_PER_PIXEL 8 *
SAMPLES_AND_LINES 6360 7590 *
HORIZONTAL_DATUM NAD83 *
HORIZONTAL_COORDINATE_SYSTEM UTM *
COORDINATE_ZONE 11 *
HORIZONTAL_UNITS METERS *
HORIZONTAL_RESOLUTION 1.000 *
SECONDARY_HORIZONTAL_DATUM NAD27 *
XY_ORIGIN 465780.000 3984330.000 *
SECONDARY_XY_ORIGIN 465859.642 3984134.987 *
NATION US *
STATE CA *
NW_QUAD_CORNER_XY 466202.066 3984013.465 *
NE_QUAD_CORNER_XY 471835.074 3983993.600 *
SE_QUAD_CORNER_XY 471812.867 3977061.440 *
SW_QUAD_CORNER_XY 466175.418 3977081.291 *
SECONDARY_NW_QUAD_XY 466201.264 3983812.992 *
SECONDARY_NE_QUAD_XY 471834.406 3983793.127 *
SECONDARY_SE_QUAD_XY 471812.199 3976861.143 *
SECONDARY_SW_QUAD_XY 466174.616 3976880.994 *
RMSE_XY 2.150 *
IMAGE_SOURCE "BLACK AND WHITE FILM" *
SOURCE_IMAGE_ID "NAPP 6854 97" *
SOURCE_IMAGE_DATE 1994 05 29 *
SOURCE_IMAGE_ID "NAPP 6854 132" *
SOURCE_IMAGE_DATE 1994 05 29 *
SOURCE_IMAGE_ID "NAPP 6853 271" *
SOURCE_IMAGE_DATE 1994 05 28 *
SOURCE_IMAGE_ID "NAPP 6854 95" *
SOURCE_IMAGE_DATE 1994 05 29 *
SOURCE_DEM_DATE 1982 01 01 *
AGENCY "WESTERN MAPPING CENTER (WMC)" *
PRODUCER "ANALYTICAL SURVEYS INC." *
PRODUCTION_SYSTEM "ORBIT OR_RECTIFY V.5.2" *
STANDARD_VERSION 1996 12 *
METADATA_DATE 1998 05 19 *
DATA_FILE_SIZE 48278760 *
BYTE_COUNT 6360 * * * * * * * * * * * * * * * * * * * * * * * * * * * * * * *
END_USGS_HEADER *
