BEGIN_USGS_DOQ_HEADER *
QUADRANGLE_NAME "SLATE RANGE CROSSING" *
QUADRANT SE *
NORTH_LATITUDE 35 56 15.000 *
WEST_LONGITUDE -117 18 45.000 *
SOUTH_LATITUDE 35 52 30.000 *
EAST_LONGITUDE -117 15 00.000 *
PRODUCTION_DATE 1998 05 13 *
RASTER_ORDER LEFT_RIGHT/TOP_BOTTOM *
BAND_ORGANIZATION "SINGLE FILE" *
BAND_CONTENT BLACK&WHITE *
BITS_PER_PIXEL 8 *
SAMPLES_AND_LINES 6390 7590 *
HORIZONTAL_DATUM NAD83 *
HORIZONTAL_COORDINATE_SYSTEM UTM *
COORDINATE_ZONE 11 *
HORIZONTAL_UNITS METERS *
HORIZONTAL_RESOLUTION 1.000 *
SECONDARY_HORIZONTAL_DATUM NAD27 *
XY_ORIGIN 471390.000 3977370.000 *
SECONDARY_XY_ORIGIN 471469.669 3977174.967 *
NATION US *
STATE CA *
NW_QUAD_CORNER_XY 471812.867 3977061.440 *
NE_QUAD_CORNER_XY 477450.306 3977045.199 *
SE_QUAD_CORNER_XY 477432.568 3970113.123 *
SW_QUAD_CORNER_XY 471790.694 3970129.353 *
SECONDARY_NW_QUAD_XY 471812.199 3976861.143 *
SECONDARY_NE_QUAD_XY 477449.772 3976844.901 *
SECONDARY_SE_QUAD_XY 477432.034 3969913.002 *
SECONDARY_SW_QUAD_XY 471790.026 3969929.232 *
RMSE_XY 4.428 *
IMAGE_SOURCE "BLACK AND WHITE FILM" *
SOURCE_IMAGE_ID "NAPP 6854 134" *
SOURCE_IMAGE_DATE 1994 05 29 *
SOURCE_DEM_DATE 1982 01 01 *
AGENCY "WESTERN MAPPING CENTER (WMC)" *
PRODUCER "ANALYTICAL SURVEYS INC." *
PRODUCTION_SYSTEM "ORBIT OR_RECTIFY V.5.2" *
STANDARD_VERSION 1996 12 *
METADATA_DATE 1998 05 19 *
DATA_FILE_SIZE 48506490 *
BYTE_COUNT 6390 * * * * * * * * * * * * * * * * * * * * * * * * * * * * * * * * * * * * *
END_USGS_HEADER *
