BEGIN_USGS_DOQ_HEADER *
QUADRANGLE_NAME "HOMEWOOD CANYON" *
QUADRANT NW *
NORTH_LATITUDE 36 00 00.000 *
WEST_LONGITUDE -117 30 00.000 *
SOUTH_LATITUDE 35 56 15.000 *
EAST_LONGITUDE -117 26 15.000 *
PRODUCTION_DATE 1998 05 07 *
RASTER_ORDER LEFT_RIGHT/TOP_BOTTOM *
BAND_ORGANIZATION "SINGLE FILE" *
BAND_CONTENT BLACK&WHITE *
BITS_PER_PIXEL 8 *
SAMPLES_AND_LINES 6390 7620 *
HORIZONTAL_DATUM NAD83 *
HORIZONTAL_COORDINATE_SYSTEM UTM *
COORDINATE_ZONE 11 *
HORIZONTAL_UNITS METERS *
HORIZONTAL_RESOLUTION 1.000 *
SECONDARY_HORIZONTAL_DATUM NAD27 *
XY_ORIGIN 454500.000 3984390.000 *
SECONDARY_XY_ORIGIN 454579.598 3984195.017 *
NATION US *
STATE CA *
NW_QUAD_CORNER_XY 454936.010 3984064.030 *
NE_QUAD_CORNER_XY 460569.046 3984036.942 *
SE_QUAD_CORNER_XY 460537.955 3977104.751 *
SW_QUAD_CORNER_XY 454900.478 3977131.820 *
SECONDARY_NW_QUAD_XY 454934.940 3983863.559 *
SECONDARY_NE_QUAD_XY 460568.110 3983836.469 *
SECONDARY_SE_QUAD_XY 460537.020 3976904.454 *
SECONDARY_SW_QUAD_XY 454899.409 3976931.525 *
RMSE_XY 2.759 *
IMAGE_SOURCE "BLACK AND WHITE FILM" *
SOURCE_IMAGE_ID "NAPP 6853 224" *
SOURCE_IMAGE_DATE 1994 05 28 *
SOURCE_DEM_DATE 1982 01 01 *
AGENCY "WESTERN MAPPING CENTER (WMC)" *
PRODUCER "ANALYTICAL SURVEYS INC." *
PRODUCTION_SYSTEM "ORBIT OR_RECTIFY V.5.2" *
STANDARD_VERSION 1996 12 *
METADATA_DATE 1998 07 13 *
DATA_FILE_SIZE 48698190 *
BYTE_COUNT 6390 * * * * * * * * * * * * * * * * * * * * * * * * * * * * * * * * * * * * *
END_USGS_HEADER *
