BEGIN_USGS_DOQ_HEADER *
QUADRANGLE_NAME "HOMEWOOD CANYON" *
QUADRANT SE *
NORTH_LATITUDE 35 56 15.000 *
WEST_LONGITUDE -117 26 15.000 *
SOUTH_LATITUDE 35 52 30.000 *
EAST_LONGITUDE -117 22 30.000 *
PRODUCTION_DATE 1998 05 07 *
RASTER_ORDER LEFT_RIGHT/TOP_BOTTOM *
BAND_ORGANIZATION "SINGLE FILE" *
BAND_CONTENT BLACK&WHITE *
BITS_PER_PIXEL 8 *
SAMPLES_AND_LINES 6390 7590 *
HORIZONTAL_DATUM NAD83 *
HORIZONTAL_COORDINATE_SYSTEM UTM *
COORDINATE_ZONE 11 *
HORIZONTAL_UNITS METERS *
HORIZONTAL_RESOLUTION 1.000 *
SECONDARY_HORIZONTAL_DATUM NAD27 *
XY_ORIGIN 460110.000 3977430.000 *
SECONDARY_XY_ORIGIN 460189.648 3977234.986 *
NATION US *
STATE CA *
NW_QUAD_CORNER_XY 460537.955 3977104.751 *
NE_QUAD_CORNER_XY 466175.418 3977081.291 *
SE_QUAD_CORNER_XY 466148.809 3970149.189 *
SW_QUAD_CORNER_XY 460506.912 3970172.632 *
SECONDARY_NW_QUAD_XY 460537.020 3976904.454 *
SECONDARY_NE_QUAD_XY 466174.616 3976880.994 *
SECONDARY_SE_QUAD_XY 466148.008 3969949.069 *
SECONDARY_SW_QUAD_XY 460505.977 3969972.512 *
RMSE_XY 3.337 *
IMAGE_SOURCE "BLACK AND WHITE FILM" *
SOURCE_IMAGE_ID "NAPP 6853 273" *
SOURCE_IMAGE_DATE 1994 05 28 *
SOURCE_IMAGE_ID "NAPP 6853 272" *
SOURCE_IMAGE_DATE 1994 05 28 *
SOURCE_IMAGE_ID "NAPP 6853 274" *
SOURCE_IMAGE_DATE 1994 05 28 *
SOURCE_DEM_DATE 1982 01 01 *
AGENCY "WESTERN MAPPING CENTER (WMC)" *
PRODUCER "ANALYTICAL SURVEYS INC." *
PRODUCTION_SYSTEM "ORBIT OR_RECTIFY V.5.2" *
STANDARD_VERSION 1996 12 *
METADATA_DATE 1998 07 13 *
DATA_FILE_SIZE 48506490 *
BYTE_COUNT 6390 * * * * * * * * * * * * * * * * * * * * * * * * * * * * * * * * *
END_USGS_HEADER *
