BEGIN_USGS_DOQ_HEADER *
QUADRANGLE_NAME "MOUNTAIN SPRINGS CANYON" *
QUADRANT NE *
NORTH_LATITUDE 36 00 00.000 *
WEST_LONGITUDE -117 33 45.000 *
SOUTH_LATITUDE 35 56 15.000 *
EAST_LONGITUDE -117 30 00.000 *
PRODUCTION_DATE 1998 05 11 *
RASTER_ORDER LEFT_RIGHT/TOP_BOTTOM *
BAND_ORGANIZATION "SINGLE FILE" *
BAND_CONTENT BLACK&WHITE *
BITS_PER_PIXEL 8 *
SAMPLES_AND_LINES 6390 7620 *
HORIZONTAL_DATUM NAD83 *
HORIZONTAL_COORDINATE_SYSTEM UTM *
COORDINATE_ZONE 11 *
HORIZONTAL_UNITS METERS *
HORIZONTAL_RESOLUTION 1.000 *
SECONDARY_HORIZONTAL_DATUM NAD27 *
XY_ORIGIN 448860.000 3984420.000 *
SECONDARY_XY_ORIGIN 448939.669 3984224.976 *
NATION US *
STATE CA *
NW_QUAD_CORNER_XY 449302.958 3984094.731 *
NE_QUAD_CORNER_XY 454936.010 3984064.030 *
SE_QUAD_CORNER_XY 454900.478 3977131.820 *
SW_QUAD_CORNER_XY 449262.984 3977162.499 *
SECONDARY_NW_QUAD_XY 449301.755 3983894.260 *
SECONDARY_NE_QUAD_XY 454934.940 3983863.559 *
SECONDARY_SE_QUAD_XY 454899.409 3976931.525 *
SECONDARY_SW_QUAD_XY 449261.782 3976962.204 *
RMSE_XY 2.137 *
IMAGE_SOURCE "BLACK AND WHITE FILM" *
SOURCE_IMAGE_ID "NAPP 6879 139" *
SOURCE_IMAGE_DATE 1995 10 07 *
SOURCE_IMAGE_ID "NAPP 6879 141" *
SOURCE_IMAGE_DATE 1995 10 07 *
SOURCE_DEM_DATE 1982 01 01 *
AGENCY "WESTERN MAPPING CENTER (WMC)" *
PRODUCER "ANALYTICAL SURVEYS INC." *
PRODUCTION_SYSTEM "ORBIT OR_RECTIFY V.5.2" *
STANDARD_VERSION 1996 12 *
METADATA_DATE 1998 05 11 *
DATA_FILE_SIZE 48698190 *
BYTE_COUNT 6390 * * * * * * * * * * * * * * * * * * * * * * * * * * * * * * * * * * *
END_USGS_HEADER *
