BEGIN_USGS_DOQ_HEADER *
QUADRANGLE_NAME "MOUNTAIN SPRINGS CANYON" *
QUADRANT NW *
NORTH_LATITUDE 36 00 00.000 *
WEST_LONGITUDE -117 37 30.000 *
SOUTH_LATITUDE 35 56 15.000 *
EAST_LONGITUDE -117 33 45.000 *
PRODUCTION_DATE 1998 05 11 *
RASTER_ORDER LEFT_RIGHT/TOP_BOTTOM *
BAND_ORGANIZATION "SINGLE FILE" *
BAND_CONTENT BLACK&WHITE *
BITS_PER_PIXEL 8 *
SAMPLES_AND_LINES 6390 7620 *
HORIZONTAL_DATUM NAD83 *
HORIZONTAL_COORDINATE_SYSTEM UTM *
COORDINATE_ZONE 11 *
HORIZONTAL_UNITS METERS *
HORIZONTAL_RESOLUTION 1.000 *
SECONDARY_HORIZONTAL_DATUM NAD27 *
XY_ORIGIN 443220.000 3984450.000 *
SECONDARY_XY_ORIGIN 443299.741 3984254.936 *
NATION US *
STATE CA *
NW_QUAD_CORNER_XY 443669.888 3984129.044 *
NE_QUAD_CORNER_XY 449302.958 3984094.731 *
SE_QUAD_CORNER_XY 449262.984 3977162.499 *
SW_QUAD_CORNER_XY 443625.471 3977196.788 *
SECONDARY_NW_QUAD_XY 443668.550 3983928.574 *
SECONDARY_NE_QUAD_XY 449301.755 3983894.260 *
SECONDARY_SE_QUAD_XY 449261.782 3976962.204 *
SECONDARY_SW_QUAD_XY 443624.135 3976996.494 *
RMSE_XY 2.627 *
IMAGE_SOURCE "BLACK AND WHITE FILM" *
SOURCE_IMAGE_ID "NAPP 6853 155" *
SOURCE_IMAGE_DATE 1994 05 28 *
SOURCE_DEM_DATE 1982 01 01 *
AGENCY "WESTERN MAPPING CENTER (WMC)" *
PRODUCER "ANALYTICAL SURVEYS INC." *
PRODUCTION_SYSTEM "ORBIT OR_RECTIFY V.5.2" *
STANDARD_VERSION 1996 12 *
METADATA_DATE 1998 05 11 *
DATA_FILE_SIZE 48698190 *
BYTE_COUNT 6390 * * * * * * * * * * * * * * * * * * * * * * * * * * * * * * * * * * * * *
END_USGS_HEADER *
