BEGIN_USGS_DOQ_HEADER *
QUADRANGLE_NAME "MOUNTAIN SPRINGS CANYON" *
QUADRANT SE *
NORTH_LATITUDE 35 56 15.000 *
WEST_LONGITUDE -117 33 45.000 *
SOUTH_LATITUDE 35 52 30.000 *
EAST_LONGITUDE -117 30 00.000 *
PRODUCTION_DATE 1998 05 11 *
RASTER_ORDER LEFT_RIGHT/TOP_BOTTOM *
BAND_ORGANIZATION "SINGLE FILE" *
BAND_CONTENT BLACK&WHITE *
BITS_PER_PIXEL 8 *
SAMPLES_AND_LINES 6390 7620 *
HORIZONTAL_DATUM NAD83 *
HORIZONTAL_COORDINATE_SYSTEM UTM *
COORDINATE_ZONE 11 *
HORIZONTAL_UNITS METERS *
HORIZONTAL_RESOLUTION 1.000 *
SECONDARY_HORIZONTAL_DATUM NAD27 *
XY_ORIGIN 448830.000 3977490.000 *
SECONDARY_XY_ORIGIN 448909.695 3977294.959 *
NATION US *
STATE CA *
NW_QUAD_CORNER_XY 449262.984 3977162.499 *
NE_QUAD_CORNER_XY 454900.478 3977131.820 *
SE_QUAD_CORNER_XY 454865.000 3970199.682 *
SW_QUAD_CORNER_XY 449223.071 3970230.339 *
SECONDARY_NW_QUAD_XY 449261.782 3976962.204 *
SECONDARY_NE_QUAD_XY 454899.409 3976931.525 *
SECONDARY_SE_QUAD_XY 454863.932 3969999.563 *
SECONDARY_SW_QUAD_XY 449221.869 3970030.221 *
RMSE_XY 2.385 *
IMAGE_SOURCE "BLACK AND WHITE FILM" *
SOURCE_IMAGE_ID "NAPP 6879 137" *
SOURCE_IMAGE_DATE 1995 10 07 *
SOURCE_IMAGE_ID "NAPP 6879 135" *
SOURCE_IMAGE_DATE 1995 10 07 *
SOURCE_IMAGE_ID "NAPP 6879 139" *
SOURCE_IMAGE_DATE 1995 10 07 *
SOURCE_DEM_DATE 1982 01 01 *
AGENCY "WESTERN MAPPING CENTER (WMC)" *
PRODUCER "ANALYTICAL SURVEYS INC." *
PRODUCTION_SYSTEM "ORBIT OR_RECTIFY V.5.2" *
STANDARD_VERSION 1996 12 *
METADATA_DATE 1998 05 11 *
DATA_FILE_SIZE 48698190 *
BYTE_COUNT 6390 * * * * * * * * * * * * * * * * * * * * * * * * * * * * * * * * *
END_USGS_HEADER *
