BEGIN_USGS_DOQ_HEADER *
QUADRANGLE_NAME "AIRPORT LAKE" *
QUADRANT NE *
NORTH_LATITUDE 36 00 00.000 *
WEST_LONGITUDE -117 41 15.000 *
SOUTH_LATITUDE 35 56 15.000 *
EAST_LONGITUDE -117 37 30.000 *
PRODUCTION_DATE 1998 05 05 *
RASTER_ORDER LEFT_RIGHT/TOP_BOTTOM *
BAND_ORGANIZATION "SINGLE FILE" *
BAND_CONTENT BLACK&WHITE *
BITS_PER_PIXEL 8 *
SAMPLES_AND_LINES 6390 7590 *
HORIZONTAL_DATUM NAD83 *
HORIZONTAL_COORDINATE_SYSTEM UTM *
COORDINATE_ZONE 11 *
HORIZONTAL_UNITS METERS *
HORIZONTAL_RESOLUTION 1.000 *
SECONDARY_HORIZONTAL_DATUM NAD27 *
XY_ORIGIN 437580.000 3984480.000 *
SECONDARY_XY_ORIGIN 437659.814 3984284.896 *
NATION US *
STATE CA *
NW_QUAD_CORNER_XY 438036.796 3984166.970 *
NE_QUAD_CORNER_XY 443669.888 3984129.044 *
SE_QUAD_CORNER_XY 443625.471 3977196.788 *
SW_QUAD_CORNER_XY 437987.937 3977234.686 *
SECONDARY_NW_QUAD_XY 438035.325 3983966.501 *
SECONDARY_NE_QUAD_XY 443668.550 3983928.574 *
SECONDARY_SE_QUAD_XY 443624.135 3976996.494 *
SECONDARY_SW_QUAD_XY 437986.467 3977034.393 *
RMSE_XY 2.020 *
IMAGE_SOURCE "BLACK AND WHITE FILM" *
SOURCE_IMAGE_ID "NAPP 6880 48" *
SOURCE_IMAGE_DATE 1995 10 07 *
SOURCE_DEM_DATE 1982 01 01 *
AGENCY "WESTERN MAPPING CENTER (WMC)" *
PRODUCER "ANALYTICAL SURVEYS INC." *
PRODUCTION_SYSTEM "ORBIT OR_RECTIFY V.5.2" *
STANDARD_VERSION 1996 12 *
METADATA_DATE 1998 05 05 *
DATA_FILE_SIZE 48506490 *
BYTE_COUNT 6390 * * * * * * * * * * * * * * * * * * * * * * * * * * * * * * * * * * * * *
END_USGS_HEADER *
