BEGIN_USGS_DOQ_HEADER *
QUADRANGLE_NAME "AIRPORT LAKE" *
QUADRANT SW *
NORTH_LATITUDE 35 56 15.000 *
WEST_LONGITUDE -117 45 00.000 *
SOUTH_LATITUDE 35 52 30.000 *
EAST_LONGITUDE -117 41 15.000 *
PRODUCTION_DATE 1998 05 05 *
RASTER_ORDER LEFT_RIGHT/TOP_BOTTOM *
BAND_ORGANIZATION "SINGLE FILE" *
BAND_CONTENT BLACK&WHITE *
BITS_PER_PIXEL 8 *
SAMPLES_AND_LINES 6390 7590 *
HORIZONTAL_DATUM NAD83 *
HORIZONTAL_COORDINATE_SYSTEM UTM *
COORDINATE_ZONE 11 *
HORIZONTAL_UNITS METERS *
HORIZONTAL_RESOLUTION 1.000 *
SECONDARY_HORIZONTAL_DATUM NAD27 *
XY_ORIGIN 431910.000 3977580.000 *
SECONDARY_XY_ORIGIN 431989.876 3977384.849 *
NATION US *
STATE CA *
NW_QUAD_CORNER_XY 432350.380 3977276.195 *
NE_QUAD_CORNER_XY 437987.937 3977234.686 *
SE_QUAD_CORNER_XY 437939.153 3970302.474 *
SW_QUAD_CORNER_XY 432297.160 3970343.953 *
SECONDARY_NW_QUAD_XY 432348.777 3977075.902 *
SECONDARY_NE_QUAD_XY 437986.467 3977034.393 *
SECONDARY_SE_QUAD_XY 437937.684 3970102.357 *
SECONDARY_SW_QUAD_XY 432295.558 3970143.837 *
RMSE_XY 0.957 *
IMAGE_SOURCE "BLACK AND WHITE FILM" *
SOURCE_IMAGE_ID "NAPP 6850 42" *
SOURCE_IMAGE_DATE 1994 05 28 *
SOURCE_DEM_DATE 1982 01 01 *
AGENCY "WESTERN MAPPING CENTER (WMC)" *
PRODUCER "ANALYTICAL SURVEYS INC." *
PRODUCTION_SYSTEM "ORBIT OR_RECTIFY V.5.2" *
STANDARD_VERSION 1996 12 *
METADATA_DATE 1998 05 05 *
DATA_FILE_SIZE 48506490 *
BYTE_COUNT 6390 * * * * * * * * * * * * * * * * * * * * * * * * * * * * * * * * * * * * *
END_USGS_HEADER *
