BEGIN_USGS_DOQ_HEADER *
QUADRANGLE_NAME "VOLCANO PEAK" *
QUADRANT NE *
NORTH_LATITUDE 36 00 00.000 *
WEST_LONGITUDE -117 48 45.000 *
SOUTH_LATITUDE 35 56 15.000 *
EAST_LONGITUDE -117 45 00.000 *
PRODUCTION_DATE 1998 07 06 *
RASTER_ORDER LEFT_RIGHT/TOP_BOTTOM *
BAND_ORGANIZATION "SINGLE FILE" *
BAND_CONTENT BLACK&WHITE *
BITS_PER_PIXEL 8 *
SAMPLES_AND_LINES 6390 7620 *
HORIZONTAL_DATUM NAD83 *
HORIZONTAL_COORDINATE_SYSTEM UTM *
COORDINATE_ZONE 11 *
HORIZONTAL_UNITS METERS *
HORIZONTAL_RESOLUTION 1.000 *
SECONDARY_HORIZONTAL_DATUM NAD27 *
XY_ORIGIN 426330.000 3984570.000 *
SECONDARY_XY_ORIGIN 426409.931 3984374.854 *
NATION US *
STATE CA *
NW_QUAD_CORNER_XY 426770.541 3984253.659 *
NE_QUAD_CORNER_XY 432403.681 3984208.508 *
SE_QUAD_CORNER_XY 432350.380 3977276.195 *
SW_QUAD_CORNER_XY 426712.798 3977321.313 *
SECONDARY_NW_QUAD_XY 426768.803 3984053.191 *
SECONDARY_NE_QUAD_XY 432402.076 3984008.040 *
SECONDARY_SE_QUAD_XY 432348.777 3977075.902 *
SECONDARY_SW_QUAD_XY 426711.061 3977121.022 *
RMSE_XY 2.888 *
IMAGE_SOURCE "BLACK AND WHITE FILM" *
SOURCE_IMAGE_ID "NAPP 6850 47" *
SOURCE_IMAGE_DATE 1994 05 28 *
SOURCE_IMAGE_ID "NAPP 6850 49" *
SOURCE_IMAGE_DATE 1994 05 28 *
SOURCE_IMAGE_ID "NAPP 6853 191" *
SOURCE_IMAGE_DATE 1994 05 28 *
SOURCE_DEM_DATE 1983 01 01 *
AGENCY "WESTERN MAPPING CENTER (WMC)" *
PRODUCER "ANALYTICAL SURVEYS INC." *
PRODUCTION_SYSTEM "ORBIT OR_RECTIFY V.5.2" *
STANDARD_VERSION 1996 12 *
METADATA_DATE 1998 07 06 *
DATA_FILE_SIZE 48698190 *
BYTE_COUNT 6390 * * * * * * * * * * * * * * * * * * * * * * * * * * * * * * * * *
END_USGS_HEADER *
