BEGIN_USGS_DOQ_HEADER *
QUADRANGLE_NAME "VOLCANO PEAK" *
QUADRANT NW *
NORTH_LATITUDE 36 00 00.000 *
WEST_LONGITUDE -117 52 30.000 *
SOUTH_LATITUDE 35 56 15.000 *
EAST_LONGITUDE -117 48 45.000 *
PRODUCTION_DATE 1998 05 04 *
RASTER_ORDER LEFT_RIGHT/TOP_BOTTOM *
BAND_ORGANIZATION "SINGLE FILE" *
BAND_CONTENT BLACK&WHITE *
BITS_PER_PIXEL 8 *
SAMPLES_AND_LINES 6390 7620 *
HORIZONTAL_DATUM NAD83 *
HORIZONTAL_COORDINATE_SYSTEM UTM *
COORDINATE_ZONE 11 *
HORIZONTAL_UNITS METERS *
HORIZONTAL_RESOLUTION 1.000 *
SECONDARY_HORIZONTAL_DATUM NAD27 *
XY_ORIGIN 420690.000 3984630.000 *
SECONDARY_XY_ORIGIN 420769.976 3984434.849 *
NATION US *
STATE CA *
NW_QUAD_CORNER_XY 421137.374 3984302.422 *
NE_QUAD_CORNER_XY 426770.541 3984253.659 *
SE_QUAD_CORNER_XY 426712.798 3977321.313 *
SW_QUAD_CORNER_XY 421075.188 3977370.042 *
SECONDARY_NW_QUAD_XY 421135.502 3984101.956 *
SECONDARY_NE_QUAD_XY 426768.803 3984053.191 *
SECONDARY_SE_QUAD_XY 426711.061 3977121.022 *
SECONDARY_SW_QUAD_XY 421073.317 3977169.751 *
RMSE_XY 2.258 *
IMAGE_SOURCE "BLACK AND WHITE FILM" *
SOURCE_IMAGE_ID "NAPP 6851 58" *
SOURCE_IMAGE_DATE 1994 05 28 *
SOURCE_DEM_DATE 1983 01 01 *
AGENCY "WESTERN MAPPING CENTER (WMC)" *
PRODUCER "ANALYTICAL SURVEYS INC." *
PRODUCTION_SYSTEM "ORBIT OR_RECTIFY V.5.2" *
STANDARD_VERSION 1996 12 *
METADATA_DATE 1998 07 06 *
DATA_FILE_SIZE 48698190 *
BYTE_COUNT 6390 * * * * * * * * * * * * * * * * * * * * * * * * * * * * * * * * * * * * *
END_USGS_HEADER *
