BEGIN_USGS_DOQ_HEADER *
QUADRANGLE_NAME "VOLCANO PEAK" *
QUADRANT SW *
NORTH_LATITUDE 35 56 15.000 *
WEST_LONGITUDE -117 52 30.000 *
SOUTH_LATITUDE 35 52 30.000 *
EAST_LONGITUDE -117 48 45.000 *
PRODUCTION_DATE 1998 05 04 *
RASTER_ORDER LEFT_RIGHT/TOP_BOTTOM *
BAND_ORGANIZATION "SINGLE FILE" *
BAND_CONTENT BLACK&WHITE *
BITS_PER_PIXEL 8 *
SAMPLES_AND_LINES 6390 7620 *
HORIZONTAL_DATUM NAD83 *
HORIZONTAL_COORDINATE_SYSTEM UTM *
COORDINATE_ZONE 11 *
HORIZONTAL_UNITS METERS *
HORIZONTAL_RESOLUTION 1.000 *
SECONDARY_HORIZONTAL_DATUM NAD27 *
XY_ORIGIN 420630.000 3977700.000 *
SECONDARY_XY_ORIGIN 420709.960 3977504.848 *
NATION US *
STATE CA *
NW_QUAD_CORNER_XY 421075.188 3977370.042 *
NE_QUAD_CORNER_XY 426712.798 3977321.313 *
SE_QUAD_CORNER_XY 426655.142 3970389.039 *
SW_QUAD_CORNER_XY 421013.096 3970437.732 *
SECONDARY_NW_QUAD_XY 421073.317 3977169.751 *
SECONDARY_NE_QUAD_XY 426711.061 3977121.022 *
SECONDARY_SE_QUAD_XY 426653.406 3970188.924 *
SECONDARY_SW_QUAD_XY 421011.227 3970237.618 *
RMSE_XY 2.213 *
IMAGE_SOURCE "BLACK AND WHITE FILM" *
SOURCE_IMAGE_ID "NAPP 6851 56" *
SOURCE_IMAGE_DATE 1994 05 28 *
SOURCE_DEM_DATE 1983 01 01 *
AGENCY "WESTERN MAPPING CENTER (WMC)" *
PRODUCER "ANALYTICAL SURVEYS INC." *
PRODUCTION_SYSTEM "ORBIT OR_RECTIFY V.5.2" *
STANDARD_VERSION 1996 12 *
METADATA_DATE 1998 05 05 *
DATA_FILE_SIZE 48698190 *
BYTE_COUNT 6390 * * * * * * * * * * * * * * * * * * * * * * * * * * * * * * * * * * * * *
END_USGS_HEADER *
