BEGIN_USGS_DOQ_HEADER *
QUADRANGLE_NAME "LITTLE LAKE" *
QUADRANT SW *
NORTH_LATITUDE 35 56 15.000 *
WEST_LONGITUDE -118 00 00.000 *
SOUTH_LATITUDE 35 52 30.000 *
EAST_LONGITUDE -117 56 15.000 *
PRODUCTION_DATE 1998 05 06 *
RASTER_ORDER LEFT_RIGHT/TOP_BOTTOM *
BAND_ORGANIZATION "SINGLE FILE" *
BAND_CONTENT BLACK&WHITE *
BITS_PER_PIXEL 8 *
SAMPLES_AND_LINES 6420 7620 *
HORIZONTAL_DATUM NAD83 *
HORIZONTAL_COORDINATE_SYSTEM UTM *
COORDINATE_ZONE 11 *
HORIZONTAL_UNITS METERS *
HORIZONTAL_RESOLUTION 1.000 *
SECONDARY_HORIZONTAL_DATUM NAD27 *
XY_ORIGIN 409320.000 3977790.000 *
SECONDARY_XY_ORIGIN 409400.043 3977594.844 *
NATION US *
STATE CA *
NW_QUAD_CORNER_XY 409799.878 3977478.330 *
NE_QUAD_CORNER_XY 415437.549 3977422.381 *
SE_QUAD_CORNER_XY 415371.021 3970490.033 *
SW_QUAD_CORNER_XY 409728.913 3970545.943 *
SECONDARY_NW_QUAD_XY 409797.740 3977278.043 *
SECONDARY_NE_QUAD_XY 415435.544 3977222.092 *
SECONDARY_SE_QUAD_XY 415369.018 3970289.921 *
SECONDARY_SW_QUAD_XY 409726.777 3970345.832 *
RMSE_XY 1.351 *
IMAGE_SOURCE "BLACK AND WHITE FILM" *
SOURCE_IMAGE_ID "NAPP 6851 6" *
SOURCE_IMAGE_DATE 1994 05 28 *
SOURCE_DEM_DATE 1983 01 01 *
AGENCY "WESTERN MAPPING CENTER (WMC)" *
PRODUCER "ANALYTICAL SURVEYS INC." *
PRODUCTION_SYSTEM "ORBIT OR_RECTIFY V.5.2" *
STANDARD_VERSION 1996 12 *
METADATA_DATE 1998 05 06 *
DATA_FILE_SIZE 48926820 *
BYTE_COUNT 6420 * * * * * * * * * * * * * * * * * * * * * * * * * * * * * * * * * * * * * *
END_USGS_HEADER *
