BEGIN_USGS_DOQ_HEADER *
QUADRANGLE_NAME "CUMMINGS MOUNTAIN" *
QUADRANT NE *
NORTH_LATITUDE 35 07 30.000 *
WEST_LONGITUDE -118 33 45.000 *
SOUTH_LATITUDE 35 03 45.000 *
EAST_LONGITUDE -118 30 00.000 *
PRODUCTION_DATE 1998 04 28 *
RASTER_ORDER LEFT_RIGHT/TOP_BOTTOM *
BAND_ORGANIZATION "SINGLE FILE" *
BAND_CONTENT BLACK&WHITE *
BITS_PER_PIXEL 8 *
SAMPLES_AND_LINES 6510 7650 *
HORIZONTAL_DATUM NAD83 *
HORIZONTAL_COORDINATE_SYSTEM UTM *
COORDINATE_ZONE 11 *
HORIZONTAL_UNITS METERS *
HORIZONTAL_RESOLUTION 1.000 *
SECONDARY_HORIZONTAL_DATUM NAD27 *
XY_ORIGIN 357120.000 3888330.000 *
SECONDARY_XY_ORIGIN 357200.793 3888134.610 *
NATION US *
STATE CA *
NW_QUAD_CORNER_XY 357630.443 3888022.325 *
NE_QUAD_CORNER_XY 363325.678 3887934.730 *
SE_QUAD_CORNER_XY 363221.319 3881002.798 *
SW_QUAD_CORNER_XY 357521.733 3881090.325 *
SECONDARY_NW_QUAD_XY 357627.139 3887824.412 *
SECONDARY_NE_QUAD_XY 363322.506 3887736.815 *
SECONDARY_SE_QUAD_XY 363218.150 3880805.070 *
SECONDARY_SW_QUAD_XY 357518.432 3880892.598 *
RMSE_XY 2.037 *
IMAGE_SOURCE "BLACK AND WHITE FILM" *
SOURCE_IMAGE_ID "NAPP 6869 134" *
SOURCE_IMAGE_DATE 1994 06 05 *
SOURCE_DEM_DATE 1998 01 01 *
AGENCY "WESTERN MAPPING CENTER (WMC)" *
PRODUCER "ANALYTICAL SURVEYS INC." *
PRODUCTION_SYSTEM "ORBIT OR_RECTIFY V.5.2" *
STANDARD_VERSION 1996 12 *
METADATA_DATE 1998 04 29 *
DATA_FILE_SIZE 49808010 *
BYTE_COUNT 6510 * * * * * * * * * * * * * * * * * * * * * * * * * * * * * * * * * * * * * * *
END_USGS_HEADER *
