BEGIN_USGS_DOQ_HEADER *
QUADRANGLE_NAME "TEJON RANCH" *
QUADRANT NW *
NORTH_LATITUDE 35 07 30.000 *
WEST_LONGITUDE -118 45 00.000 *
SOUTH_LATITUDE 35 03 45.000 *
EAST_LONGITUDE -118 41 15.000 *
PRODUCTION_DATE 1998 09 22 *
RASTER_ORDER LEFT_RIGHT/TOP_BOTTOM *
BAND_ORGANIZATION "SINGLE FILE" *
BAND_CONTENT BLACK&WHITE *
BITS_PER_PIXEL 8 *
SAMPLES_AND_LINES 6540 7680 *
HORIZONTAL_DATUM NAD83 *
HORIZONTAL_COORDINATE_SYSTEM UTM *
COORDINATE_ZONE 11 *
HORIZONTAL_UNITS METERS *
HORIZONTAL_RESOLUTION 1.000 *
SECONDARY_HORIZONTAL_DATUM NAD27 *
XY_ORIGIN 340020.000 3888630.000 *
SECONDARY_XY_ORIGIN 340100.955 3888434.521 *
NATION US *
STATE CA *
NW_QUAD_CORNER_XY 340544.383 3888306.581 *
NE_QUAD_CORNER_XY 346239.798 3888208.250 *
SE_QUAD_CORNER_XY 346122.384 3881276.103 *
SW_QUAD_CORNER_XY 340422.616 3881374.356 *
SECONDARY_NW_QUAD_XY 340540.682 3888108.674 *
SECONDARY_NE_QUAD_XY 346236.229 3888010.342 *
SECONDARY_SE_QUAD_XY 346118.818 3881078.381 *
SECONDARY_SW_QUAD_XY 340418.918 3881176.637 *
RMSE_XY 1.776 *
IMAGE_SOURCE "BLACK AND WHITE FILM" *
SOURCE_IMAGE_ID "NAPP 6876 56" *
SOURCE_IMAGE_DATE 1995 10 04 *
SOURCE_DEM_DATE 1998 01 01 *
AGENCY "WESTERN MAPPING CENTER (WMC)" *
PRODUCER "ANALYTICAL SURVEYS INC." *
PRODUCTION_SYSTEM "ORBIT OR_RECTIFY V.5.2" *
STANDARD_VERSION 1996 12 *
METADATA_DATE 1998 09 23 *
DATA_FILE_SIZE 50233740 *
BYTE_COUNT 6540 * * * * * * * * * * * * * * * * * * * * * * * * * * * * * * * * * * * * * * *
END_USGS_HEADER *
