BEGIN_USGS_DOQ_HEADER *
QUADRANGLE_NAME "METTLER" 3.45 or 7.5-min. name*
QUADRANT SE quadrant indicator if cell size = 3.75-minutes*
WEST_LONGITUDE -118 56 15.000 signed deg min sec SDDD MM SS.SSS*
EAST_LONGITUDE -118 52 30.000 signed deg min sec SDDD MM SS.SSS*
NORTH_LATITUDE 35 3 45.000 signed deg min sec SDDD MM SS.SSS*
SOUTH_LATITUDE 35 0 0.000 signed deg min sec SDDD MM SS.SSS*
PRODUCTION_DATE 1994 6 14 yyyy mm dd*
RASTER_ORDER LEFT_RIGHT/TOP_BOTTOM video display order*
BAND_ORGANIZATION "SINGLE FILE" single file or BSQ, or BIL or BIP*
BAND_CONTENT BLACK&WHITE black&white or red green blue*
BITS_PER_PIXEL 8 radiometric resolution*
SAMPLES_AND_LINES 6528 7653 number of columns and rows*
HORIZONTAL_DATUM NAD83 primary horizontal datum*
HORIZONTAL_COORDINATE_SYSTEM UTM *
COORDINATE_ZONE 11 coordinate system zone number*
HORIZONTAL_UNITS METERS coordinate system units*
HORIZONTAL_RESOLUTION 1.00 pixel horiz. ground sample distance*
SECONDARY_HORIZONTAL_DATUM NAD27 secondary horizontal datum*
XY_ORIGIN 322798.000 3881995.000 coord. of upper left pixel pri. datum*
SECONDARY_XY_ORIGIN 322879.204 3881799.310 coord upper left pixel sec datum*
NATION US nation code*
STATE CA state fip code*
NW_QUAD_CORNER_XY 323322.913 3881690.574 XY coords. of pri. NW quad corner*
NE_QUAD_CORNER_XY 329022.883 3881581.591 XY coords. of pri. NE quad corner*
SE_QUAD_CORNER_XY 328892.613 3874649.267 XY coords. of pri. SE quad corner*
SW_QUAD_CORNER_XY 323188.296 3874758.164 XY coords. of pri. SW quad corner*
SECONDARY_NW_QUAD_XY 323318.819 3881492.862 XY coords. - sec. NW quad cor.*
SECONDARY_NE_QUAD_XY 329018.921 3881383.877 XY coords. - sec. NE quad cor.*
SECONDARY_SE_QUAD_XY 328888.655 3874451.740 XY coords. - sec. SE quad cor.*
SECONDARY_SW_QUAD_XY 323184.206 3874560.639 XY coords. - sec. SW quad cor.*
RMSE_XY 1.40 doq horiz. accuracy*
IMAGE_SOURCE "BLACK AND WHITE FILM" b&w, cir, natural color, other*
SOURCE_IMAGE_ID "VFNH 1 60" source image id*
SOURCE_IMAGE_DATE 1992 9 16 source image date as yyyy mm dd*
SOURCE_DEM_DATE 1994 6 14 source dem date yyyy mm dd*
AGENCY "WESTERN MAPPING CENTER (WMC)" oversight agency*
PRODUCER "WMC" producer/contractor*
PRODUCTION_SYSTEM "DV2.0 2/94 OV2.0 2/94" production system*
STANDARD_VERSION 1996 12 version of DOQ standard*
METADATA_DATE 1997 6 18 date created or changed, yyyy mm dd*
DATA_FILE_SIZE 49965312 data set size in bytes*
BYTE_COUNT 6528 header byte count* * * * * * * * * * * * * * * * * * * * * * * * * * * * * * * * * * * * * * *
END_USGS_HEADER *
