BEGIN_USGS_DOQ_HEADER *
QUADRANGLE_NAME "CACHE PEAK" *
QUADRANT NE *
NORTH_LATITUDE 35 15 00.000 *
WEST_LONGITUDE -118 11 15.000 *
SOUTH_LATITUDE 35 11 15.000 *
EAST_LONGITUDE -118 07 30.000 *
PRODUCTION_DATE 1998 04 30 *
RASTER_ORDER LEFT_RIGHT/TOP_BOTTOM *
BAND_ORGANIZATION "SINGLE FILE" *
BAND_CONTENT BLACK&WHITE *
BITS_PER_PIXEL 8 *
SAMPLES_AND_LINES 6480 7650 *
HORIZONTAL_DATUM NAD83 *
HORIZONTAL_COORDINATE_SYSTEM UTM *
COORDINATE_ZONE 11 *
HORIZONTAL_UNITS METERS *
HORIZONTAL_RESOLUTION 1.000 *
SECONDARY_HORIZONTAL_DATUM NAD27 *
XY_ORIGIN 391500.000 3901740.000 *
SECONDARY_XY_ORIGIN 391580.283 3901544.934 *
NATION US *
STATE CA *
NW_QUAD_CORNER_XY 391966.667 3901413.877 *
NE_QUAD_CORNER_XY 397652.885 3901347.640 *
SE_QUAD_CORNER_XY 397574.384 3894415.926 *
SW_QUAD_CORNER_XY 391883.803 3894482.111 *
SECONDARY_NW_QUAD_XY 391964.152 3901215.581 *
SECONDARY_NE_QUAD_XY 397650.502 3901149.343 *
SECONDARY_SE_QUAD_XY 397572.003 3894217.814 *
SECONDARY_SW_QUAD_XY 391881.290 3894284.001 *
RMSE_XY 3.517 *
IMAGE_SOURCE "BLACK AND WHITE FILM" *
SOURCE_IMAGE_ID "NAPP 6863 33" *
SOURCE_IMAGE_DATE 1994 05 29 *
SOURCE_IMAGE_ID "NAPP 6863 31" *
SOURCE_IMAGE_DATE 1994 05 29 *
SOURCE_DEM_DATE 1998 01 01 *
AGENCY "WESTERN MAPPING CENTER (WMC)" *
PRODUCER "ANALYTICAL SURVEYS INC." *
PRODUCTION_SYSTEM "ORBIT OR_RECTIFY V.5.2" *
STANDARD_VERSION 1996 12 *
METADATA_DATE 1998 04 30 *
DATA_FILE_SIZE 49578480 *
BYTE_COUNT 6480 * * * * * * * * * * * * * * * * * * * * * * * * * * * * * * * * * * * *
END_USGS_HEADER *
