BEGIN_USGS_DOQ_HEADER *
QUADRANGLE_NAME "BEAR MOUNTAIN" 3.45 or 7.5-min. name*
QUADRANT NE quadrant indicator if cell size = 3.75-minutes*
WEST_LONGITUDE -118 41 15.000 signed deg min sec SDDD MM SS.SSS*
EAST_LONGITUDE -118 37 30.000 signed deg min sec SDDD MM SS.SSS*
NORTH_LATITUDE 35 15 0.000 signed deg min sec SDDD MM SS.SSS*
SOUTH_LATITUDE 35 11 15.000 signed deg min sec SDDD MM SS.SSS*
PRODUCTION_DATE 1994 6 7 yyyy mm dd*
RASTER_ORDER LEFT_RIGHT/TOP_BOTTOM video display order*
BAND_ORGANIZATION "SINGLE FILE" single file or BSQ, or BIL or BIP*
BAND_CONTENT BLACK&WHITE black&white or red green blue*
BITS_PER_PIXEL 8 radiometric resolution*
SAMPLES_AND_LINES 6500 7641 number of columns and rows*
HORIZONTAL_DATUM NAD83 primary horizontal datum*
HORIZONTAL_COORDINATE_SYSTEM UTM *
COORDINATE_ZONE 11 coordinate system zone number*
HORIZONTAL_UNITS METERS coordinate system units*
HORIZONTAL_RESOLUTION 1.00 pixel horiz. ground sample distance*
SECONDARY_HORIZONTAL_DATUM NAD27 secondary horizontal datum*
XY_ORIGIN 345968.000 3902378.000 coord. of upper left pixel pri. datum*
SECONDARY_XY_ORIGIN 346048.000 3902183.000 coord upper left pixel sec datum*
NATION US nation code*
STATE CA state fip code*
NW_QUAD_CORNER_XY 346475.176 3902072.742 XY coords. of pri. NW quad corner*
NE_QUAD_CORNER_XY 352161.803 3901977.842 XY coords. of pri. NE quad corner*
SE_QUAD_CORNER_XY 352048.389 3895045.637 XY coords. of pri. SE quad corner*
SW_QUAD_CORNER_XY 346357.395 3895140.463 XY coords. of pri. SW quad corner*
SECONDARY_NW_QUAD_XY 346471.601 3901874.461 XY coords. - sec. NW quad cor.*
SECONDARY_NE_QUAD_XY 352158.361 3901779.559 XY coords. - sec. NE quad cor.*
SECONDARY_SE_QUAD_XY 352044.949 3894847.540 XY coords. - sec. SE quad cor.*
SECONDARY_SW_QUAD_XY 346353.823 3894942.368 XY coords. - sec. SW quad cor.*
RMSE_XY 3.70 doq horiz. accuracy*
IMAGE_SOURCE "BLACK AND WHITE FILM" b&w, cir, natural color, other*
SOURCE_IMAGE_ID "VFNH 1 146" source image id*
SOURCE_IMAGE_DATE 1992 9 16 source image date as yyyy mm dd*
SOURCE_DEM_DATE 1994 6 7 source dem date yyyy mm dd*
AGENCY "WESTERN MAPPING CENTER (WMC)" oversight agency*
PRODUCER "WMC" producer/contractor*
PRODUCTION_SYSTEM "DV2.0 2/94 OV2.0 2/94" production system*
STANDARD_VERSION 1996 12 version of DOQ standard*
METADATA_DATE 1997 6 13 date created or changed, yyyy mm dd*
DATA_FILE_SIZE 49673000 data set size in bytes*
BYTE_COUNT 6500 header byte count* * * * * * * * * * * * * * * * * * * * * * * * * * * * * * * * * * * * * * *
END_USGS_HEADER *
