BEGIN_USGS_DOQ_HEADER *
QUADRANGLE_NAME "CROSS MOUNTAIN" *
QUADRANT NW *
NORTH_LATITUDE 35 22 30.000 *
WEST_LONGITUDE -118 15 00.000 *
SOUTH_LATITUDE 35 18 45.000 *
EAST_LONGITUDE -118 11 15.000 *
PRODUCTION_DATE 1998 04 30 *
RASTER_ORDER LEFT_RIGHT/TOP_BOTTOM *
BAND_ORGANIZATION "SINGLE FILE" *
BAND_CONTENT BLACK&WHITE *
BITS_PER_PIXEL 8 *
SAMPLES_AND_LINES 6480 7620 *
HORIZONTAL_DATUM NAD83 *
HORIZONTAL_COORDINATE_SYSTEM UTM *
COORDINATE_ZONE 11 *
HORIZONTAL_UNITS METERS *
HORIZONTAL_RESOLUTION 1.000 *
SECONDARY_HORIZONTAL_DATUM NAD27 *
XY_ORIGIN 385980.000 3915660.000 *
SECONDARY_XY_ORIGIN 386060.156 3915464.810 *
NATION US *
STATE CA *
NW_QUAD_CORNER_XY 386455.268 3915347.541 *
NE_QUAD_CORNER_XY 392132.782 3915277.615 *
SE_QUAD_CORNER_XY 392049.660 3908345.711 *
SW_QUAD_CORNER_XY 386367.769 3908415.584 *
SECONDARY_NW_QUAD_XY 386452.616 3915148.878 *
SECONDARY_NE_QUAD_XY 392130.262 3915078.950 *
SECONDARY_SE_QUAD_XY 392047.143 3908147.231 *
SECONDARY_SW_QUAD_XY 386365.119 3908217.105 *
RMSE_XY 1.441 *
IMAGE_SOURCE "BLACK AND WHITE FILM" *
SOURCE_IMAGE_ID "NAPP 6863 18" *
SOURCE_IMAGE_DATE 1994 05 29 *
SOURCE_DEM_DATE 1998 01 01 *
AGENCY "WESTERN MAPPING CENTER (WMC)" *
PRODUCER "ANALYTICAL SURVEYS INC." *
PRODUCTION_SYSTEM "ORBIT OR_RECTIFY V.5.2" *
STANDARD_VERSION 1996 12 *
METADATA_DATE 1998 04 30 *
DATA_FILE_SIZE 49384080 *
BYTE_COUNT 6480 * * * * * * * * * * * * * * * * * * * * * * * * * * * * * * * * * * * * * *
END_USGS_HEADER *
