BEGIN_USGS_DOQ_HEADER *
QUADRANGLE_NAME "EMERALD MOUNTAIN" *
QUADRANT NE *
NORTH_LATITUDE 35 22 30.000 *
WEST_LONGITUDE -118 18 45.000 *
SOUTH_LATITUDE 35 18 45.000 *
EAST_LONGITUDE -118 15 00.000 *
PRODUCTION_DATE 1998 04 30 *
RASTER_ORDER LEFT_RIGHT/TOP_BOTTOM *
BAND_ORGANIZATION "SINGLE FILE" *
BAND_CONTENT BLACK&WHITE *
BITS_PER_PIXEL 8 *
SAMPLES_AND_LINES 6480 7650 *
HORIZONTAL_DATUM NAD83 *
HORIZONTAL_COORDINATE_SYSTEM UTM *
COORDINATE_ZONE 11 *
HORIZONTAL_UNITS METERS *
HORIZONTAL_RESOLUTION 1.000 *
SECONDARY_HORIZONTAL_DATUM NAD27 *
XY_ORIGIN 380280.000 3915750.000 *
SECONDARY_XY_ORIGIN 380360.239 3915554.798 *
NATION US *
STATE CA *
NW_QUAD_CORNER_XY 380777.709 3915421.054 *
NE_QUAD_CORNER_XY 386455.268 3915347.541 *
SE_QUAD_CORNER_XY 386367.769 3908415.584 *
SW_QUAD_CORNER_XY 380685.833 3908489.041 *
SECONDARY_NW_QUAD_XY 380774.924 3915222.393 *
SECONDARY_NE_QUAD_XY 386452.616 3915148.878 *
SECONDARY_SE_QUAD_XY 386365.119 3908217.105 *
SECONDARY_SW_QUAD_XY 380683.050 3908290.564 *
RMSE_XY 1.846 *
IMAGE_SOURCE "BLACK AND WHITE FILM" *
SOURCE_IMAGE_ID "NAPP 6876 239" *
SOURCE_IMAGE_DATE 1995 10 04 *
SOURCE_DEM_DATE 1998 01 01 *
AGENCY "WESTERN MAPPING CENTER (WMC)" *
PRODUCER "ANALYTICAL SURVEYS INC." *
PRODUCTION_SYSTEM "ORBIT OR_RECTIFY V.5.2" *
STANDARD_VERSION 1996 12 *
METADATA_DATE 1998 04 30 *
DATA_FILE_SIZE 49578480 *
BYTE_COUNT 6480 * * * * * * * * * * * * * * * * * * * * * * * * * * * * * * * * * * * * * *
END_USGS_HEADER *
