BEGIN_USGS_DOQ_HEADER *
QUADRANGLE_NAME "OILER PEAK" *
QUADRANT SE *
NORTH_LATITUDE 35 18 45.000 *
WEST_LONGITUDE -118 33 45.000 *
SOUTH_LATITUDE 35 15 00.000 *
EAST_LONGITUDE -118 30 00.000 *
PRODUCTION_DATE 1998 09 23 *
RASTER_ORDER LEFT_RIGHT/TOP_BOTTOM *
BAND_ORGANIZATION "SINGLE FILE" *
BAND_CONTENT BLACK&WHITE *
BITS_PER_PIXEL 8 *
SAMPLES_AND_LINES 6510 7650 *
HORIZONTAL_DATUM NAD83 *
HORIZONTAL_COORDINATE_SYSTEM UTM *
COORDINATE_ZONE 11 *
HORIZONTAL_UNITS METERS *
HORIZONTAL_RESOLUTION 1.000 *
SECONDARY_HORIZONTAL_DATUM NAD27 *
XY_ORIGIN 357450.000 3909120.000 *
SECONDARY_XY_ORIGIN 357530.608 3908924.716 *
NATION US *
STATE CA *
NW_QUAD_CORNER_XY 357957.591 3908818.726 *
NE_QUAD_CORNER_XY 363639.730 3908730.926 *
SE_QUAD_CORNER_XY 363534.883 3901798.794 *
SW_QUAD_CORNER_XY 357848.372 3901886.526 *
SECONDARY_NW_QUAD_XY 357954.278 3908620.256 *
SECONDARY_NE_QUAD_XY 363636.550 3908532.454 *
SECONDARY_SE_QUAD_XY 363531.706 3901600.507 *
SECONDARY_SW_QUAD_XY 357845.062 3901688.241 *
RMSE_XY 2.020 *
IMAGE_SOURCE "BLACK AND WHITE FILM" *
SOURCE_IMAGE_ID "NAPP 6869 128" *
SOURCE_IMAGE_DATE 1994 06 05 *
SOURCE_IMAGE_ID "NAPP 6866 237" *
SOURCE_IMAGE_DATE 1994 06 02 *
SOURCE_DEM_DATE 1998 01 01 *
AGENCY "WESTERN MAPPING CENTER (WMC)" *
PRODUCER "ANALYTICAL SURVEYS INC." *
PRODUCTION_SYSTEM "ORBIT OR_RECTIFY V.5.2" *
STANDARD_VERSION 1996 12 *
METADATA_DATE 1998 09 25 *
DATA_FILE_SIZE 49808010 *
BYTE_COUNT 6510 * * * * * * * * * * * * * * * * * * * * * * * * * * * * * * * * * * * * *
END_USGS_HEADER *
