BEGIN_USGS_DOQ_HEADER *
QUADRANGLE_NAME "PINYON MOUNTAIN" *
QUADRANT NW *
NORTH_LATITUDE 35 30 00.000 *
WEST_LONGITUDE -118 15 00.000 *
SOUTH_LATITUDE 35 26 15.000 *
EAST_LONGITUDE -118 11 15.000 *
PRODUCTION_DATE 1998 05 04 *
RASTER_ORDER LEFT_RIGHT/TOP_BOTTOM *
BAND_ORGANIZATION "SINGLE FILE" *
BAND_CONTENT BLACK&WHITE *
BITS_PER_PIXEL 8 *
SAMPLES_AND_LINES 6450 7620 *
HORIZONTAL_DATUM NAD83 *
HORIZONTAL_COORDINATE_SYSTEM UTM *
COORDINATE_ZONE 11 *
HORIZONTAL_UNITS METERS *
HORIZONTAL_RESOLUTION 1.000 *
SECONDARY_HORIZONTAL_DATUM NAD27 *
XY_ORIGIN 386160.000 3929520.000 *
SECONDARY_XY_ORIGIN 386240.006 3929324.730 *
NATION US *
STATE CA *
NW_QUAD_CORNER_XY 386630.671 3929211.660 *
NE_QUAD_CORNER_XY 392299.411 3929141.627 *
SE_QUAD_CORNER_XY 392216.032 3922209.587 *
SW_QUAD_CORNER_XY 386542.902 3922279.566 *
SECONDARY_NW_QUAD_XY 386628.014 3929012.632 *
SECONDARY_NE_QUAD_XY 392296.887 3928942.598 *
SECONDARY_SE_QUAD_XY 392213.511 3922010.739 *
SECONDARY_SW_QUAD_XY 386540.247 3922080.720 *
RMSE_XY 1.317 *
IMAGE_SOURCE "BLACK AND WHITE FILM" *
SOURCE_IMAGE_ID "NAPP 6863 14" *
SOURCE_IMAGE_DATE 1994 05 29 *
SOURCE_DEM_DATE 1998 01 01 *
AGENCY "WESTERN MAPPING CENTER (WMC)" *
PRODUCER "ANALYTICAL SURVEYS INC." *
PRODUCTION_SYSTEM "ORBIT OR_RECTIFY V.5.2" *
STANDARD_VERSION 1996 12 *
METADATA_DATE 1998 05 04 *
DATA_FILE_SIZE 49155450 *
BYTE_COUNT 6450 * * * * * * * * * * * * * * * * * * * * * * * * * * * * * * * * * * * * * *
END_USGS_HEADER *
