BEGIN_USGS_DOQ_HEADER *
QUADRANGLE_NAME "CLARAVILLE" 3.45 or 7.5-min. name*
QUADRANT NE quadrant indicator if cell size = 3.75-minutes*
WEST_LONGITUDE -118 18 45.000 signed deg min sec SDDD MM SS.SSS*
EAST_LONGITUDE -118 15 0.000 signed deg min sec SDDD MM SS.SSS*
NORTH_LATITUDE 35 30 0.000 signed deg min sec SDDD MM SS.SSS*
SOUTH_LATITUDE 35 26 15.000 signed deg min sec SDDD MM SS.SSS*
PRODUCTION_DATE 1998 6 8 yyyy mm dd*
RASTER_ORDER LEFT_RIGHT/TOP_BOTTOM video display order*
BAND_ORGANIZATION "SINGLE FILE" single file or BSQ, or BIL or BIP*
BAND_CONTENT BLACK&WHITE black&white or red green blue*
BITS_PER_PIXEL 8 radiometric resolution*
SAMPLES_AND_LINES 6447 7613 number of columns and rows*
HORIZONTAL_DATUM NAD83 primary horizontal datum*
HORIZONTAL_COORDINATE_SYSTEM UTM *
COORDINATE_ZONE 11 coordinate system zone number*
HORIZONTAL_UNITS METERS coordinate system units*
HORIZONTAL_RESOLUTION 1.00 pixel horiz. ground sample distance*
SECONDARY_HORIZONTAL_DATUM NAD27 secondary horizontal datum*
XY_ORIGIN 380485.000 3929586.000 coord. of upper left pixel pri. datum*
SECONDARY_XY_ORIGIN 380565.069 3929390.729 coord upper left pixel sec datum*
NATION US nation code*
STATE CA state fip code*
NW_QUAD_CORNER_XY 380961.887 3929285.285 XY coords. of pri. NW quad corner*
NE_QUAD_CORNER_XY 386630.671 3929211.660 XY coords. of pri. NE quad corner*
SE_QUAD_CORNER_XY 386542.902 3922279.566 XY coords. of pri. SE quad corner*
SW_QUAD_CORNER_XY 380869.727 3922353.136 XY coords. of pri. SW quad corner*
SECONDARY_NW_QUAD_XY 380959.097 3929086.259 XY coords. - sec. NW quad cor.*
SECONDARY_NE_QUAD_XY 386628.014 3929012.632 XY coords. - sec. NE quad cor.*
SECONDARY_SE_QUAD_XY 386540.247 3922080.720 XY coords. - sec. SE quad cor.*
SECONDARY_SW_QUAD_XY 380866.939 3922154.292 XY coords. - sec. SW quad cor.*
RMSE_XY 2.90 doq horiz. accuracy*
IMAGE_SOURCE "BLACK AND WHITE FILM" b&w, cir, natural color, other*
SOURCE_IMAGE_ID "NAPP 6876 243" source image id*
SOURCE_IMAGE_DATE 1995 10 04 source image date as yyyy mm dd*
IMAGE_SOURCE "BLACK AND WHITE FILM" b&w, cir, natural color, other*
SOURCE_IMAGE_ID "NAPP 6876 242" source image id*
SOURCE_IMAGE_DATE 1995 10 04 source image date as yyyy mm dd*
SOURCE_DEM_DATE 1997 01 01 source dem date yyyy mm dd*
AGENCY "WESTERN MAPPING CENTER (WMC)" oversight agency*
PRODUCER "SCIENCE APPLICATIONS INTERNATIONAL" producer/contractor*
PRODUCTION_SYSTEM "GIS/MAGIC" production system*
STANDARD_VERSION 1996 12 version of DOQ standard*
METADATA_DATE 1998 06 25 date created or changed, yyyy mm dd*
DATA_FILE_SIZE 49087458 data set size in bytes*
BYTE_COUNT 6447 header byte count* * * * * * * * * * * * * * * * * * * * * * * * * * * * * * * * * * *
END_USGS_HEADER *
