BEGIN_USGS_DOQ_HEADER *
QUADRANGLE_NAME "PIUTE PEAK" 3.45 or 7.5-min. name*
QUADRANT NW quadrant indicator if cell size = 3.75-minutes*
WEST_LONGITUDE -118 30 0.000 signed deg min sec SDDD MM SS.SSS*
EAST_LONGITUDE -118 26 15.000 signed deg min sec SDDD MM SS.SSS*
NORTH_LATITUDE 35 30 0.000 signed deg min sec SDDD MM SS.SSS*
SOUTH_LATITUDE 35 26 15.000 signed deg min sec SDDD MM SS.SSS*
PRODUCTION_DATE 1998 6 8 yyyy mm dd*
RASTER_ORDER LEFT_RIGHT/TOP_BOTTOM video display order*
BAND_ORGANIZATION "SINGLE FILE" single file or BSQ, or BIL or BIP*
BAND_CONTENT BLACK&WHITE black&white or red green blue*
BITS_PER_PIXEL 8 radiometric resolution*
SAMPLES_AND_LINES 6461 7623 number of columns and rows*
HORIZONTAL_DATUM NAD83 primary horizontal datum*
HORIZONTAL_COORDINATE_SYSTEM UTM *
COORDINATE_ZONE 11 coordinate system zone number*
HORIZONTAL_UNITS METERS coordinate system units*
HORIZONTAL_RESOLUTION 1.00 pixel horiz. ground sample distance*
SECONDARY_HORIZONTAL_DATUM NAD27 secondary horizontal datum*
XY_ORIGIN 363465.000 3929828.000 coord. of upper left pixel pri. datum*
SECONDARY_XY_ORIGIN 363545.243 3929632.723 coord upper left pixel sec datum*
NATION US nation code*
STATE CA state fip code*
NW_QUAD_CORNER_XY 363955.246 3929527.723 XY coords. of pri. NW quad corner*
NE_QUAD_CORNER_XY 369624.177 3929443.317 XY coords. of pri. NE quad corner*
SE_QUAD_CORNER_XY 369523.234 3922511.048 XY coords. of pri. SE quad corner*
SW_QUAD_CORNER_XY 363849.912 3922595.391 XY coords. of pri. SW quad corner*
SECONDARY_NW_QUAD_XY 363952.058 3929328.703 XY coords. - sec. NW quad cor.*
SECONDARY_NE_QUAD_XY 369621.121 3929244.294 XY coords. - sec. NE quad cor.*
SECONDARY_SE_QUAD_XY 369520.181 3922312.207 XY coords. - sec. SE quad cor.*
SECONDARY_SW_QUAD_XY 363846.726 3922396.552 XY coords. - sec. SW quad cor.*
RMSE_XY 3.20 doq horiz. accuracy*
IMAGE_SOURCE "BLACK AND WHITE FILM" b&w, cir, natural color, other*
SOURCE_IMAGE_ID "NAPP 6866 243" source image id*
SOURCE_IMAGE_DATE 1994 06 02 source image date as yyyy mm dd*
IMAGE_SOURCE "BLACK AND WHITE FILM" b&w, cir, natural color, other*
SOURCE_IMAGE_ID "NAPP 6866 242" source image id*
SOURCE_IMAGE_DATE 1994 06 02 source image date as yyyy mm dd*
IMAGE_SOURCE "BLACK AND WHITE FILM" b&w, cir, natural color, other*
SOURCE_IMAGE_ID "NAPP 6866 244" source image id*
SOURCE_IMAGE_DATE 1994 06 02 source image date as yyyy mm dd*
SOURCE_DEM_DATE 1997 01 01 source dem date yyyy mm dd*
AGENCY "WESTERN MAPPING CENTER (WMC)" oversight agency*
PRODUCER "SCIENCE APPLICATIONS INTERNATIONAL" producer/contractor*
PRODUCTION_SYSTEM "GIS/MAGIC" production system*
STANDARD_VERSION 1996 12 version of DOQ standard*
METADATA_DATE 1998 06 25 date created or changed, yyyy mm dd*
DATA_FILE_SIZE 49258664 data set size in bytes*
BYTE_COUNT 6461 header byte count* * * * * * * * * * * * * * * * * * * * * * * * * * * * * * * *
END_USGS_HEADER *
