BEGIN_USGS_DOQ_HEADER *
QUADRANGLE_NAME "BRECKENRIDGE MOUNTAIN" 3.45 or 7.5-min. name*
QUADRANT SW quadrant indicator if cell size = 3.75-minutes*
WEST_LONGITUDE -118 37 30.000 signed deg min sec SDDD MM SS.SSS*
EAST_LONGITUDE -118 33 45.000 signed deg min sec SDDD MM SS.SSS*
NORTH_LATITUDE 35 26 15.000 signed deg min sec SDDD MM SS.SSS*
SOUTH_LATITUDE 35 22 30.000 signed deg min sec SDDD MM SS.SSS*
PRODUCTION_DATE 1998 6 8 yyyy mm dd*
RASTER_ORDER LEFT_RIGHT/TOP_BOTTOM video display order*
BAND_ORGANIZATION "SINGLE FILE" single file or BSQ, or BIL or BIP*
BAND_CONTENT BLACK&WHITE black&white or red green blue*
BITS_PER_PIXEL 8 radiometric resolution*
SAMPLES_AND_LINES 6474 7630 number of columns and rows*
HORIZONTAL_DATUM NAD83 primary horizontal datum*
HORIZONTAL_COORDINATE_SYSTEM UTM *
COORDINATE_ZONE 11 coordinate system zone number*
HORIZONTAL_UNITS METERS coordinate system units*
HORIZONTAL_RESOLUTION 1.00 pixel horiz. ground sample distance*
SECONDARY_HORIZONTAL_DATUM NAD27 secondary horizontal datum*
XY_ORIGIN 352004.000 3923075.000 coord. of upper left pixel pri. datum*
SECONDARY_XY_ORIGIN 352084.333 3922879.588 coord upper left pixel sec datum*
NATION US nation code*
STATE CA state fip code*
NW_QUAD_CORNER_XY 352503.104 3922774.851 XY coords. of pri. NW quad corner*
NE_QUAD_CORNER_XY 358176.536 3922683.325 XY coords. of pri. NE quad corner*
SE_QUAD_CORNER_XY 358066.979 3915750.992 XY coords. of pri. SE quad corner*
SW_QUAD_CORNER_XY 352389.161 3915842.449 XY coords. of pri. SW quad corner*
SECONDARY_NW_QUAD_XY 352499.653 3922576.017 XY coords. - sec. NW quad cor.*
SECONDARY_NE_QUAD_XY 358173.217 3922484.489 XY coords. - sec. NE quad cor.*
SECONDARY_SE_QUAD_XY 358063.663 3915552.339 XY coords. - sec. SE quad cor.*
SECONDARY_SW_QUAD_XY 352385.713 3915643.797 XY coords. - sec. SW quad cor.*
RMSE_XY 3.80 doq horiz. accuracy*
IMAGE_SOURCE "BLACK AND WHITE FILM" b&w, cir, natural color, other*
SOURCE_IMAGE_ID "NAPP 6879 014" source image id*
SOURCE_IMAGE_DATE 1995 10 05 source image date as yyyy mm dd*
IMAGE_SOURCE "BLACK AND WHITE FILM" b&w, cir, natural color, other*
SOURCE_IMAGE_ID "NAPP 6869 113" source image id*
SOURCE_IMAGE_DATE 1994 06 05 source image date as yyyy mm dd*
IMAGE_SOURCE "BLACK AND WHITE FILM" b&w, cir, natural color, other*
SOURCE_IMAGE_ID "NAPP 6869 114" source image id*
SOURCE_IMAGE_DATE 1994 06 05 source image date as yyyy mm dd*
IMAGE_SOURCE "BLACK AND WHITE FILM" b&w, cir, natural color, other*
SOURCE_IMAGE_ID "NAPP 6879 015" source image id*
SOURCE_IMAGE_DATE 1995 10 05 source image date as yyyy mm dd*
SOURCE_DEM_DATE 1997 01 01 source dem date yyyy mm dd*
AGENCY "WESTERN MAPPING CENTER (WMC)" oversight agency*
PRODUCER "SCIENCE APPLICATIONS INTERNATIONAL" producer/contractor*
PRODUCTION_SYSTEM "GIS/MAGIC" production system*
STANDARD_VERSION 1996 12 version of DOQ standard*
METADATA_DATE 1998 06 25 date created or changed, yyyy mm dd*
DATA_FILE_SIZE 49403094 data set size in bytes*
BYTE_COUNT 6474 header byte count* * * * * * * * * * * * * * * * * * * * * * * * * * * * *
END_USGS_HEADER *
