BEGIN_USGS_DOQ_HEADER *
QUADRANGLE_NAME "MOUNT ADELAIDE" 3.45 or 7.5-min. name*
QUADRANT NW quadrant indicator if cell size = 3.75-minutes*
WEST_LONGITUDE -118 45 0.000 signed deg min sec SDDD MM SS.SSS*
EAST_LONGITUDE -118 41 15.000 signed deg min sec SDDD MM SS.SSS*
NORTH_LATITUDE 35 30 0.000 signed deg min sec SDDD MM SS.SSS*
SOUTH_LATITUDE 35 26 15.000 signed deg min sec SDDD MM SS.SSS*
PRODUCTION_DATE 1998 6 8 yyyy mm dd*
RASTER_ORDER LEFT_RIGHT/TOP_BOTTOM video display order*
BAND_ORGANIZATION "SINGLE FILE" single file or BSQ, or BIL or BIP*
BAND_CONTENT BLACK&WHITE black&white or red green blue*
BITS_PER_PIXEL 8 radiometric resolution*
SAMPLES_AND_LINES 6479 7638 number of columns and rows*
HORIZONTAL_DATUM NAD83 primary horizontal datum*
HORIZONTAL_COORDINATE_SYSTEM UTM *
COORDINATE_ZONE 11 coordinate system zone number*
HORIZONTAL_UNITS METERS coordinate system units*
HORIZONTAL_RESOLUTION 1.00 pixel horiz. ground sample distance*
SECONDARY_HORIZONTAL_DATUM NAD27 secondary horizontal datum*
XY_ORIGIN 340771.000 3930202.000 coord. of upper left pixel pri. datum*
SECONDARY_XY_ORIGIN 340851.122 3930006.397 coord upper left pixel sec datum*
NATION US nation code*
STATE CA state fip code*
NW_QUAD_CORNER_XY 341278.971 3929901.296 XY coords. of pri. NW quad corner*
NE_QUAD_CORNER_XY 346948.127 3929802.510 XY coords. of pri. NE quad corner*
SE_QUAD_CORNER_XY 346829.615 3922869.970 XY coords. of pri. SE quad corner*
SW_QUAD_CORNER_XY 341156.065 3922968.681 XY coords. of pri. SW quad corner*
SECONDARY_NW_QUAD_XY 341275.250 3929702.284 XY coords. - sec. NW quad cor.*
SECONDARY_NE_QUAD_XY 346944.540 3929603.496 XY coords. - sec. NE quad cor.*
SECONDARY_SE_QUAD_XY 346826.031 3922671.138 XY coords. - sec. SE quad cor.*
SECONDARY_SW_QUAD_XY 341152.348 3922769.851 XY coords. - sec. SW quad cor.*
RMSE_XY 5.30 doq horiz. accuracy*
IMAGE_SOURCE "BLACK AND WHITE FILM" b&w, cir, natural color, other*
SOURCE_IMAGE_ID "NAPP 6876 068" source image id*
SOURCE_IMAGE_DATE 1995 10 04 source image date as yyyy mm dd*
IMAGE_SOURCE "BLACK AND WHITE FILM" b&w, cir, natural color, other*
SOURCE_IMAGE_ID "NAPP 6876 067" source image id*
SOURCE_IMAGE_DATE 1995 10 04 source image date as yyyy mm dd*
IMAGE_SOURCE "BLACK AND WHITE FILM" b&w, cir, natural color, other*
SOURCE_IMAGE_ID "NAPP 6876 069" source image id*
SOURCE_IMAGE_DATE 1995 10 04 source image date as yyyy mm dd*
SOURCE_DEM_DATE 1997 01 01 source dem date yyyy mm dd*
AGENCY "WESTERN MAPPING CENTER (WMC)" oversight agency*
PRODUCER "SCIENCE APPLICATIONS INTERNATIONAL" producer/contractor*
PRODUCTION_SYSTEM "GIS/MAGIC" production system*
STANDARD_VERSION 1996 12 version of DOQ standard*
METADATA_DATE 1998 06 25 date created or changed, yyyy mm dd*
DATA_FILE_SIZE 49493081 data set size in bytes*
BYTE_COUNT 6479 header byte count* * * * * * * * * * * * * * * * * * * * * * * * * * * * * * * *
END_USGS_HEADER *
