BEGIN_USGS_DOQ_HEADER *
QUADRANGLE_NAME "WALKER PASS" 3.45 or 7.5-min. name*
QUADRANT SW quadrant indicator if cell size = 3.75-minutes*
WEST_LONGITUDE -118 7 30.000 signed deg min sec SDDD MM SS.SSS*
EAST_LONGITUDE -118 3 45.000 signed deg min sec SDDD MM SS.SSS*
NORTH_LATITUDE 35 41 15.000 signed deg min sec SDDD MM SS.SSS*
SOUTH_LATITUDE 35 37 30.000 signed deg min sec SDDD MM SS.SSS*
PRODUCTION_DATE 1998 6 8 yyyy mm dd*
RASTER_ORDER LEFT_RIGHT/TOP_BOTTOM video display order*
BAND_ORGANIZATION "SINGLE FILE" single file or BSQ, or BIL or BIP*
BAND_CONTENT BLACK&WHITE black&white or red green blue*
BITS_PER_PIXEL 8 radiometric resolution*
SAMPLES_AND_LINES 6420 7602 number of columns and rows*
HORIZONTAL_DATUM NAD83 primary horizontal datum*
HORIZONTAL_COORDINATE_SYSTEM UTM *
COORDINATE_ZONE 11 coordinate system zone number*
HORIZONTAL_UNITS METERS coordinate system units*
HORIZONTAL_RESOLUTION 1.00 pixel horiz. ground sample distance*
SECONDARY_HORIZONTAL_DATUM NAD27 secondary horizontal datum*
XY_ORIGIN 397743.000 3950172.000 coord. of upper left pixel pri. datum*
SECONDARY_XY_ORIGIN 397822.961 3949976.746 coord upper left pixel sec datum*
NATION US nation code*
STATE CA state fip code*
NW_QUAD_CORNER_XY 398205.806 3949871.575 XY coords. of pri. NW quad corner*
NE_QUAD_CORNER_XY 403861.254 3949808.587 XY coords. of pri. NE quad corner*
SE_QUAD_CORNER_XY 403786.310 3942876.436 XY coords. of pri. SE quad corner*
SW_QUAD_CORNER_XY 398126.452 3942939.377 XY coords. of pri. SW quad corner*
SECONDARY_NW_QUAD_XY 398203.408 3949672.002 XY coords. - sec. NW quad cor.*
SECONDARY_NE_QUAD_XY 403858.990 3949609.012 XY coords. - sec. NE quad cor.*
SECONDARY_SE_QUAD_XY 403784.048 3942677.041 XY coords. - sec. SE quad cor.*
SECONDARY_SW_QUAD_XY 398124.057 3942739.983 XY coords. - sec. SW quad cor.*
RMSE_XY 3.40 doq horiz. accuracy*
IMAGE_SOURCE "BLACK AND WHITE FILM" b&w, cir, natural color, other*
SOURCE_IMAGE_ID "NAPP 6879 047" source image id*
SOURCE_IMAGE_DATE 1995 10 05 source image date as yyyy mm dd*
IMAGE_SOURCE "BLACK AND WHITE FILM" b&w, cir, natural color, other*
SOURCE_IMAGE_ID "NAPP 6863 048" source image id*
SOURCE_IMAGE_DATE 1994 05 29 source image date as yyyy mm dd*
IMAGE_SOURCE "BLACK AND WHITE FILM" b&w, cir, natural color, other*
SOURCE_IMAGE_ID "NAPP 6879 046" source image id*
SOURCE_IMAGE_DATE 1995 10 05 source image date as yyyy mm dd*
SOURCE_DEM_DATE 1997 01 01 source dem date yyyy mm dd*
AGENCY "WESTERN MAPPING CENTER (WMC)" oversight agency*
PRODUCER "SCIENCE APPLICATIONS INTERNATIONAL" producer/contractor*
PRODUCTION_SYSTEM "GIS/MAGIC" production system*
STANDARD_VERSION 1996 12 version of DOQ standard*
METADATA_DATE 1998 06 25 date created or changed, yyyy mm dd*
DATA_FILE_SIZE 48811260 data set size in bytes*
BYTE_COUNT 6420 header byte count* * * * * * * * * * * * * * * * * * * * * * * * * * * * * * * *
END_USGS_HEADER *
