BEGIN_USGS_DOQ_HEADER *
QUADRANGLE_NAME "SAND CANYON" *
QUADRANT SW *
NORTH_LATITUDE 35 41 15.000 *
WEST_LONGITUDE -119 00 00.000 *
SOUTH_LATITUDE 35 37 30.000 *
EAST_LONGITUDE -118 56 15.000 *
PRODUCTION_DATE 1998 12 04 *
RASTER_ORDER LEFT_RIGHT/TOP_BOTTOM *
BAND_ORGANIZATION "SINGLE FILE" *
BAND_CONTENT BLACK&WHITE *
BITS_PER_PIXEL 8 *
SAMPLES_AND_LINES 6510 7680 *
HORIZONTAL_DATUM NAD83 *
HORIZONTAL_COORDINATE_SYSTEM UTM *
COORDINATE_ZONE 11 *
HORIZONTAL_UNITS METERS *
HORIZONTAL_RESOLUTION 1.000 *
SECONDARY_HORIZONTAL_DATUM NAD27 *
XY_ORIGIN 318480.000 3951450.000 *
SECONDARY_XY_ORIGIN 318560.230 3951253.913 *
NATION US *
STATE CA *
NW_QUAD_CORNER_XY 319024.450 3951131.602 *
NE_QUAD_CORNER_XY 324680.641 3951018.178 *
SE_QUAD_CORNER_XY 324543.925 3944085.131 *
SW_QUAD_CORNER_XY 318883.318 3944198.471 *
SECONDARY_NW_QUAD_XY 319020.187 3950932.058 *
SECONDARY_NE_QUAD_XY 324676.512 3950818.632 *
SECONDARY_SE_QUAD_XY 324539.799 3943885.765 *
SECONDARY_SW_QUAD_XY 318879.059 3943999.107 *
RMSE_XY 1.410 *
IMAGE_SOURCE "BLACK AND WHITE FILM" *
SOURCE_IMAGE_ID "NAPP 6856 26" *
SOURCE_IMAGE_DATE 1994 05 29 *
SOURCE_DEM_DATE 1989 00 00 *
AGENCY "WESTERN MAPPING CENTER (WMC)" *
PRODUCER "ANALYTICAL SURVEYS INC." *
PRODUCTION_SYSTEM "ORBIT OR_RECTIFY V.5.2" *
STANDARD_VERSION 1996 12 *
METADATA_DATE 1998 12 07 *
DATA_FILE_SIZE 50003310 *
BYTE_COUNT 6510 * * * * * * * * * * * * * * * * * * * * * * * * * * * * * * * * * * * * * * *
END_USGS_HEADER *
