BEGIN_USGS_DOQ_HEADER *
QUADRANGLE_NAME "KERNVILLE" 3.45 or 7.5-min. name*
QUADRANT SE quadrant indicator if cell size = 3.75-minutes*
WEST_LONGITUDE -118 26 15.000 signed deg min sec SDDD MM SS.SSS*
EAST_LONGITUDE -118 22 30.000 signed deg min sec SDDD MM SS.SSS*
NORTH_LATITUDE 35 48 45.000 signed deg min sec SDDD MM SS.SSS*
SOUTH_LATITUDE 35 45 0.000 signed deg min sec SDDD MM SS.SSS*
PRODUCTION_DATE 1998 6 8 yyyy mm dd*
RASTER_ORDER LEFT_RIGHT/TOP_BOTTOM video display order*
BAND_ORGANIZATION "SINGLE FILE" single file or BSQ, or BIL or BIP*
BAND_CONTENT BLACK&WHITE black&white or red green blue*
BITS_PER_PIXEL 8 radiometric resolution*
SAMPLES_AND_LINES 6435 7621 number of columns and rows*
HORIZONTAL_DATUM NAD83 primary horizontal datum*
HORIZONTAL_COORDINATE_SYSTEM UTM *
COORDINATE_ZONE 11 coordinate system zone number*
HORIZONTAL_UNITS METERS coordinate system units*
HORIZONTAL_RESOLUTION 1.00 pixel horiz. ground sample distance*
SECONDARY_HORIZONTAL_DATUM NAD27 secondary horizontal datum*
XY_ORIGIN 369645.000 3964406.000 coord. of upper left pixel pri. datum*
SECONDARY_XY_ORIGIN 369725.019 3964210.397 coord upper left pixel sec datum*
NATION US nation code*
STATE CA state fip code*
NW_QUAD_CORNER_XY 370131.219 3964105.674 XY coords. of pri. NW quad corner*
NE_QUAD_CORNER_XY 375778.040 3964024.562 XY coords. of pri. NE quad corner*
SE_QUAD_CORNER_XY 375680.747 3957092.014 XY coords. of pri. SE quad corner*
SW_QUAD_CORNER_XY 370029.500 3957173.068 XY coords. of pri. SW quad corner*
SECONDARY_NW_QUAD_XY 370128.150 3963905.753 XY coords. - sec. NW quad cor.*
SECONDARY_NE_QUAD_XY 375775.105 3963824.638 XY coords. - sec. NE quad cor.*
SECONDARY_SE_QUAD_XY 375677.814 3956892.269 XY coords. - sec. SE quad cor.*
SECONDARY_SW_QUAD_XY 370026.434 3956973.324 XY coords. - sec. SW quad cor.*
RMSE_XY 2.20 doq horiz. accuracy*
IMAGE_SOURCE "BLACK AND WHITE FILM" b&w, cir, natural color, other*
SOURCE_IMAGE_ID "NAPP 6872 046" source image id*
SOURCE_IMAGE_DATE 1995 09 30 source image date as yyyy mm dd*
IMAGE_SOURCE "BLACK AND WHITE FILM" b&w, cir, natural color, other*
SOURCE_IMAGE_ID "NAPP 6866 254" source image id*
SOURCE_IMAGE_DATE 1994 06 02 source image date as yyyy mm dd*
IMAGE_SOURCE "BLACK AND WHITE FILM" b&w, cir, natural color, other*
SOURCE_IMAGE_ID "NAPP 6872 047" source image id*
SOURCE_IMAGE_DATE 1995 09 30 source image date as yyyy mm dd*
SOURCE_DEM_DATE 1997 01 01 source dem date yyyy mm dd*
AGENCY "WESTERN MAPPING CENTER (WMC)" oversight agency*
PRODUCER "SCIENCE APPLICATIONS INTERNATIONAL" producer/contractor*
PRODUCTION_SYSTEM "GIS/MAGIC" production system*
STANDARD_VERSION 1996 12 version of DOQ standard*
METADATA_DATE 1998 06 25 date created or changed, yyyy mm dd*
DATA_FILE_SIZE 49047570 data set size in bytes*
BYTE_COUNT 6435 header byte count* * * * * * * * * * * * * * * * * * * * * * * * * * * * * * * *
END_USGS_HEADER *
