BEGIN_USGS_DOQ_HEADER *
QUADRANGLE_NAME "KERNVILLE" 3.45 or 7.5-min. name*
QUADRANT SW quadrant indicator if cell size = 3.75-minutes*
WEST_LONGITUDE -118 30 0.000 signed deg min sec SDDD MM SS.SSS*
EAST_LONGITUDE -118 26 15.000 signed deg min sec SDDD MM SS.SSS*
NORTH_LATITUDE 35 48 45.000 signed deg min sec SDDD MM SS.SSS*
SOUTH_LATITUDE 35 45 0.000 signed deg min sec SDDD MM SS.SSS*
PRODUCTION_DATE 1998 6 8 yyyy mm dd*
RASTER_ORDER LEFT_RIGHT/TOP_BOTTOM video display order*
BAND_ORGANIZATION "SINGLE FILE" single file or BSQ, or BIL or BIP*
BAND_CONTENT BLACK&WHITE black&white or red green blue*
BITS_PER_PIXEL 8 radiometric resolution*
SAMPLES_AND_LINES 6440 7625 number of columns and rows*
HORIZONTAL_DATUM NAD83 primary horizontal datum*
HORIZONTAL_COORDINATE_SYSTEM UTM *
COORDINATE_ZONE 11 coordinate system zone number*
HORIZONTAL_UNITS METERS coordinate system units*
HORIZONTAL_RESOLUTION 1.00 pixel horiz. ground sample distance*
SECONDARY_HORIZONTAL_DATUM NAD27 secondary horizontal datum*
XY_ORIGIN 363993.000 3964491.000 coord. of upper left pixel pri. datum*
SECONDARY_XY_ORIGIN 364073.044 3964295.341 coord upper left pixel sec datum*
NATION US nation code*
STATE CA state fip code*
NW_QUAD_CORNER_XY 364484.349 3964190.394 XY coords. of pri. NW quad corner*
NE_QUAD_CORNER_XY 370131.219 3964105.674 XY coords. of pri. NE quad corner*
SE_QUAD_CORNER_XY 370029.500 3957173.068 XY coords. of pri. SE quad corner*
SW_QUAD_CORNER_XY 364378.204 3957257.726 XY coords. of pri. SW quad corner*
SECONDARY_NW_QUAD_XY 364481.146 3963990.474 XY coords. - sec. NW quad cor.*
SECONDARY_NE_QUAD_XY 370128.150 3963905.753 XY coords. - sec. NE quad cor.*
SECONDARY_SE_QUAD_XY 370026.434 3956973.324 XY coords. - sec. SE quad cor.*
SECONDARY_SW_QUAD_XY 364375.005 3957057.984 XY coords. - sec. SW quad cor.*
RMSE_XY 4.20 doq horiz. accuracy*
IMAGE_SOURCE "BLACK AND WHITE FILM" b&w, cir, natural color, other*
SOURCE_IMAGE_ID "NAPP 6866 253" source image id*
SOURCE_IMAGE_DATE 1994 06 02 source image date as yyyy mm dd*
IMAGE_SOURCE "BLACK AND WHITE FILM" b&w, cir, natural color, other*
SOURCE_IMAGE_ID "NAPP 6872 210" source image id*
SOURCE_IMAGE_DATE 1995 09 30 source image date as yyyy mm dd*
IMAGE_SOURCE "BLACK AND WHITE FILM" b&w, cir, natural color, other*
SOURCE_IMAGE_ID "NAPP 6872 209" source image id*
SOURCE_IMAGE_DATE 1995 09 30 source image date as yyyy mm dd*
IMAGE_SOURCE "BLACK AND WHITE FILM" b&w, cir, natural color, other*
SOURCE_IMAGE_ID "NAPP 6866 252" source image id*
SOURCE_IMAGE_DATE 1994 06 02 source image date as yyyy mm dd*
IMAGE_SOURCE "BLACK AND WHITE FILM" b&w, cir, natural color, other*
SOURCE_IMAGE_ID "NAPP 6866 254" source image id*
SOURCE_IMAGE_DATE 1994 06 02 source image date as yyyy mm dd*
SOURCE_DEM_DATE 1997 01 01 source dem date yyyy mm dd*
AGENCY "WESTERN MAPPING CENTER (WMC)" oversight agency*
PRODUCER "SCIENCE APPLICATIONS INTERNATIONAL" producer/contractor*
PRODUCTION_SYSTEM "GIS/MAGIC" production system*
STANDARD_VERSION 1996 12 version of DOQ standard*
METADATA_DATE 1998 06 25 date created or changed, yyyy mm dd*
DATA_FILE_SIZE 49111440 data set size in bytes*
BYTE_COUNT 6440 header byte count* * * * * * * * * * * * * * * * * * * * * * * * * *
END_USGS_HEADER *
