BEGIN_USGS_DOQ_HEADER *
QUADRANGLE_NAME "QUINCY SCHOOL" *
QUADRANT NE *
NORTH_LATITUDE 35 52 30.000 *
WEST_LONGITUDE -118 56 15.000 *
SOUTH_LATITUDE 35 48 45.000 *
EAST_LONGITUDE -118 52 30.000 *
PRODUCTION_DATE 1998 12 01 *
RASTER_ORDER LEFT_RIGHT/TOP_BOTTOM *
BAND_ORGANIZATION "SINGLE FILE" *
BAND_CONTENT BLACK&WHITE *
BITS_PER_PIXEL 8 *
SAMPLES_AND_LINES 6480 7650 *
HORIZONTAL_DATUM NAD83 *
HORIZONTAL_COORDINATE_SYSTEM UTM *
COORDINATE_ZONE 11 *
HORIZONTAL_UNITS METERS *
HORIZONTAL_RESOLUTION 1.000 *
SECONDARY_HORIZONTAL_DATUM NAD27 *
XY_ORIGIN 324570.000 3972120.000 *
SECONDARY_XY_ORIGIN 324649.983 3971923.543 *
NATION US *
STATE CA *
NW_QUAD_CORNER_XY 325092.044 3971817.703 *
NE_QUAD_CORNER_XY 330734.883 3971707.643 *
SE_QUAD_CORNER_XY 330601.975 3964774.484 *
SW_QUAD_CORNER_XY 324954.701 3964884.464 *
SECONDARY_NW_QUAD_XY 325087.903 3971617.622 *
SECONDARY_NE_QUAD_XY 330730.876 3971507.560 *
SECONDARY_SE_QUAD_XY 330597.972 3964574.578 *
SECONDARY_SW_QUAD_XY 324950.564 3964684.560 *
RMSE_XY 1.418 *
IMAGE_SOURCE "BLACK AND WHITE FILM" *
SOURCE_IMAGE_ID "NAPP 6856 75" *
SOURCE_IMAGE_DATE 1994 05 29 *
SOURCE_IMAGE_ID "NAPP 6856 73" *
SOURCE_IMAGE_DATE 1994 05 29 *
SOURCE_DEM_DATE 1992 00 00 *
AGENCY "WESTERN MAPPING CENTER (WMC)" *
PRODUCER "ANALYTICAL SURVEYS INC." *
PRODUCTION_SYSTEM "ORBIT OR_RECTIFY V.5.2" *
STANDARD_VERSION 1996 12 *
METADATA_DATE 1998 12 04 *
DATA_FILE_SIZE 49578480 *
BYTE_COUNT 6480 * * * * * * * * * * * * * * * * * * * * * * * * * * * * * * * * * * * *
END_USGS_HEADER *
