BEGIN_USGS_DOQ_HEADER *
QUADRANGLE_NAME "QUINCY SCHOOL" *
QUADRANT SW *
NORTH_LATITUDE 35 48 45.000 *
WEST_LONGITUDE -119 00 00.000 *
SOUTH_LATITUDE 35 45 00.000 *
EAST_LONGITUDE -118 56 15.000 *
PRODUCTION_DATE 1998 12 01 *
RASTER_ORDER LEFT_RIGHT/TOP_BOTTOM *
BAND_ORGANIZATION "SINGLE FILE" *
BAND_CONTENT BLACK&WHITE *
BITS_PER_PIXEL 8 *
SAMPLES_AND_LINES 6480 7680 *
HORIZONTAL_DATUM NAD83 *
HORIZONTAL_COORDINATE_SYSTEM UTM *
COORDINATE_ZONE 11 *
HORIZONTAL_UNITS METERS *
HORIZONTAL_RESOLUTION 1.000 *
SECONDARY_HORIZONTAL_DATUM NAD27 *
XY_ORIGIN 318780.000 3965310.000 *
SECONDARY_XY_ORIGIN 318860.134 3965113.629 *
NATION US *
STATE CA *
NW_QUAD_CORNER_XY 319307.360 3964998.054 *
NE_QUAD_CORNER_XY 324954.701 3964884.464 *
SE_QUAD_CORNER_XY 324817.567 3957951.289 *
SW_QUAD_CORNER_XY 319165.797 3958064.796 *
SECONDARY_NW_QUAD_XY 319303.090 3964798.153 *
SECONDARY_NE_QUAD_XY 324950.564 3964684.560 *
SECONDARY_SE_QUAD_XY 324813.433 3957751.564 *
SECONDARY_SW_QUAD_XY 319161.531 3957865.074 *
RMSE_XY 1.797 *
IMAGE_SOURCE "BLACK AND WHITE FILM" *
SOURCE_IMAGE_ID "NAPP 6856 30" *
SOURCE_IMAGE_DATE 1994 05 29 *
SOURCE_DEM_DATE 1992 00 00 *
AGENCY "WESTERN MAPPING CENTER (WMC)" *
PRODUCER "ANALYTICAL SURVEYS INC." *
PRODUCTION_SYSTEM "ORBIT OR_RECTIFY V.5.2" *
STANDARD_VERSION 1996 12 *
METADATA_DATE 1998 12 04 *
DATA_FILE_SIZE 49772880 *
BYTE_COUNT 6480 * * * * * * * * * * * * * * * * * * * * * * * * * * * * * * * * * * * * * *
END_USGS_HEADER *
