BEGIN_USGS_DOQ_HEADER *
QUADRANGLE_NAME "SACATAR CANYON" *
QUADRANT SW *
NORTH_LATITUDE 35 56 15.000 *
WEST_LONGITUDE -118 07 30.000 *
SOUTH_LATITUDE 35 52 30.000 *
EAST_LONGITUDE -118 03 45.000 *
PRODUCTION_DATE 1998 05 06 *
RASTER_ORDER LEFT_RIGHT/TOP_BOTTOM *
BAND_ORGANIZATION "SINGLE FILE" *
BAND_CONTENT BLACK&WHITE *
BITS_PER_PIXEL 8 *
SAMPLES_AND_LINES 6450 7620 *
HORIZONTAL_DATUM NAD83 *
HORIZONTAL_COORDINATE_SYSTEM UTM *
COORDINATE_ZONE 11 *
HORIZONTAL_UNITS METERS *
HORIZONTAL_RESOLUTION 1.000 *
SECONDARY_HORIZONTAL_DATUM NAD27 *
XY_ORIGIN 398040.000 3977910.000 *
SECONDARY_XY_ORIGIN 398119.969 3977714.694 *
NATION US *
STATE CA *
NW_QUAD_CORNER_XY 398524.433 3977601.062 *
NE_QUAD_CORNER_XY 404162.174 3977537.891 *
SE_QUAD_CORNER_XY 404086.772 3970605.460 *
SW_QUAD_CORNER_XY 398444.595 3970668.586 *
SECONDARY_NW_QUAD_XY 398522.028 3977400.777 *
SECONDARY_NE_QUAD_XY 404159.902 3977337.604 *
SECONDARY_SE_QUAD_XY 404084.502 3970405.350 *
SECONDARY_SW_QUAD_XY 398442.191 3970468.478 *
RMSE_XY 1.591 *
IMAGE_SOURCE "BLACK AND WHITE FILM" *
SOURCE_IMAGE_ID "NAPP 6872 155" *
SOURCE_IMAGE_DATE 1995 09 30 *
SOURCE_DEM_DATE 1998 01 01 *
AGENCY "WESTERN MAPPING CENTER (WMC)" *
PRODUCER "ANALYTICAL SURVEYS INC." *
PRODUCTION_SYSTEM "ORBIT OR_RECTIFY V.5.2" *
STANDARD_VERSION 1996 12 *
METADATA_DATE 1998 05 06 *
DATA_FILE_SIZE 49155450 *
BYTE_COUNT 6450 * * * * * * * * * * * * * * * * * * * * * * * * * * * * * * * * * * * * * *
END_USGS_HEADER *
