BEGIN_USGS_DOQ_HEADER *
QUADRANGLE_NAME "JOHNSONDALE" 3.45 or 7.5-min. name*
QUADRANT SW quadrant indicator if cell size = 3.75-minutes*
WEST_LONGITUDE -118 37 30.000 signed deg min sec SDDD MM SS.SSS*
EAST_LONGITUDE -118 33 45.000 signed deg min sec SDDD MM SS.SSS*
NORTH_LATITUDE 35 56 15.000 signed deg min sec SDDD MM SS.SSS*
SOUTH_LATITUDE 35 52 30.000 signed deg min sec SDDD MM SS.SSS*
PRODUCTION_DATE 1998 6 24 yyyy mm dd*
RASTER_ORDER LEFT_RIGHT/TOP_BOTTOM video display order*
BAND_ORGANIZATION "SINGLE FILE" single file or BSQ, or BIL or BIP*
BAND_CONTENT BLACK&WHITE black&white or red green blue*
BITS_PER_PIXEL 8 radiometric resolution*
SAMPLES_AND_LINES 6440 7632 number of columns and rows*
HORIZONTAL_DATUM NAD83 primary horizontal datum*
HORIZONTAL_COORDINATE_SYSTEM UTM *
COORDINATE_ZONE 11 coordinate system zone number*
HORIZONTAL_UNITS METERS coordinate system units*
HORIZONTAL_RESOLUTION 1.00 pixel horiz. ground sample distance*
SECONDARY_HORIZONTAL_DATUM NAD27 secondary horizontal datum*
XY_ORIGIN 352921.000 3978537.000 coord. of upper left pixel pri. datum*
SECONDARY_XY_ORIGIN 353000.720 3978340.954 coord upper left pixel sec datum*
NATION US nation code*
STATE CA state fip code*
NW_QUAD_CORNER_XY 353420.970 3978236.456 XY coords. of pri. NW quad corner*
NE_QUAD_CORNER_XY 359059.072 3978144.388 XY coords. of pri. NE quad corner*
SE_QUAD_CORNER_XY 358948.165 3971211.521 XY coords. of pri. SE quad corner*
SW_QUAD_CORNER_XY 353305.623 3971303.523 XY coords. of pri. SW quad corner*
SECONDARY_NW_QUAD_XY 353417.495 3978036.187 XY coords. - sec. NW quad cor.*
SECONDARY_NE_QUAD_XY 359055.731 3977944.116 XY coords. - sec. NE quad cor.*
SECONDARY_SE_QUAD_XY 358944.827 3971011.426 XY coords. - sec. SE quad cor.*
SECONDARY_SW_QUAD_XY 353302.151 3971103.430 XY coords. - sec. SW quad cor.*
RMSE_XY 3.10 doq horiz. accuracy*
IMAGE_SOURCE "BLACK AND WHITE FILM" b&w, cir, natural color, other*
SOURCE_IMAGE_ID "NAPP 6872 224" source image id*
SOURCE_IMAGE_DATE 1995 09 30 source image date as yyyy mm dd*
IMAGE_SOURCE "BLACK AND WHITE FILM" b&w, cir, natural color, other*
SOURCE_IMAGE_ID "NAPP 6872 223" source image id*
SOURCE_IMAGE_DATE 1995 09 30 source image date as yyyy mm dd*
SOURCE_DEM_DATE 1997 01 01 source dem date yyyy mm dd*
AGENCY "WESTERN MAPPING CENTER (WMC)" oversight agency*
PRODUCER "SCIENCE APPLICATIONS INTERNATIONAL" producer/contractor*
PRODUCTION_SYSTEM "GIS/MAGIC" production system*
STANDARD_VERSION 1996 12 version of DOQ standard*
METADATA_DATE 1998 06 25 date created or changed, yyyy mm dd*
DATA_FILE_SIZE 49156520 data set size in bytes*
BYTE_COUNT 6440 header byte count* * * * * * * * * * * * * * * * * * * * * * * * * * * * * * * * * * *
END_USGS_HEADER *
