BEGIN_USGS_DOQ_HEADER *
QUADRANGLE_NAME "CALIFORNIA HOT SPRINGS" 3.45 or 7.5-min. name*
QUADRANT NW quadrant indicator if cell size = 3.75-minutes*
WEST_LONGITUDE -118 45 0.000 signed deg min sec SDDD MM SS.SSS*
EAST_LONGITUDE -118 41 15.000 signed deg min sec SDDD MM SS.SSS*
NORTH_LATITUDE 36 0 0.000 signed deg min sec SDDD MM SS.SSS*
SOUTH_LATITUDE 35 56 15.000 signed deg min sec SDDD MM SS.SSS*
PRODUCTION_DATE 1998 6 24 yyyy mm dd*
RASTER_ORDER LEFT_RIGHT/TOP_BOTTOM video display order*
BAND_ORGANIZATION "SINGLE FILE" single file or BSQ, or BIL or BIP*
BAND_CONTENT BLACK&WHITE black&white or red green blue*
BITS_PER_PIXEL 8 radiometric resolution*
SAMPLES_AND_LINES 6444 7640 number of columns and rows*
HORIZONTAL_DATUM NAD83 primary horizontal datum*
HORIZONTAL_COORDINATE_SYSTEM UTM *
COORDINATE_ZONE 11 coordinate system zone number*
HORIZONTAL_UNITS METERS coordinate system units*
HORIZONTAL_RESOLUTION 1.00 pixel horiz. ground sample distance*
SECONDARY_HORIZONTAL_DATUM NAD27 secondary horizontal datum*
XY_ORIGIN 341760.000 3985665.000 coord. of upper left pixel pri. datum*
SECONDARY_XY_ORIGIN 341839.514 3985468.698 coord upper left pixel sec datum*
NATION US nation code*
STATE CA state fip code*
NW_QUAD_CORNER_XY 342269.014 3985364.572 XY coords. of pri. NW quad corner*
NE_QUAD_CORNER_XY 347902.781 3985265.206 XY coords. of pri. NE quad corner*
SE_QUAD_CORNER_XY 347782.813 3978332.138 XY coords. of pri. SE quad corner*
SW_QUAD_CORNER_XY 342144.599 3978431.433 XY coords. of pri. SW quad corner*
SECONDARY_NW_QUAD_XY 342265.268 3985164.131 XY coords. - sec. NW quad cor.*
SECONDARY_NE_QUAD_XY 347899.169 3985064.763 XY coords. - sec. NE quad cor.*
SECONDARY_SE_QUAD_XY 347779.204 3978131.871 XY coords. - sec. SE quad cor.*
SECONDARY_SW_QUAD_XY 342140.856 3978231.168 XY coords. - sec. SW quad cor.*
RMSE_XY 4.00 doq horiz. accuracy*
IMAGE_SOURCE "BLACK AND WHITE FILM" b&w, cir, natural color, other*
SOURCE_IMAGE_ID "NAPP 6876 084" source image id*
SOURCE_IMAGE_DATE 1995 10 04 source image date as yyyy mm dd*
IMAGE_SOURCE "BLACK AND WHITE FILM" b&w, cir, natural color, other*
SOURCE_IMAGE_ID "NAPP 6876 083" source image id*
SOURCE_IMAGE_DATE 1995 10 04 source image date as yyyy mm dd*
IMAGE_SOURCE "BLACK AND WHITE FILM" b&w, cir, natural color, other*
SOURCE_IMAGE_ID "NAPP 6876 085" source image id*
SOURCE_IMAGE_DATE 1995 10 04 source image date as yyyy mm dd*
SOURCE_DEM_DATE 1997 01 01 source dem date yyyy mm dd*
AGENCY "WESTERN MAPPING CENTER (WMC)" oversight agency*
PRODUCER "SCIENCE APPLICATIONS INTERNATIONAL" producer/contractor*
PRODUCTION_SYSTEM "GIS/MAGIC" production system*
STANDARD_VERSION 1996 12 version of DOQ standard*
METADATA_DATE 1998 06 25 date created or changed, yyyy mm dd*
DATA_FILE_SIZE 49238604 data set size in bytes*
BYTE_COUNT 6444 header byte count* * * * * * * * * * * * * * * * * * * * * * * * * * * * * * * *
END_USGS_HEADER *
