BEGIN_USGS_DOQ_HEADER *
QUADRANGLE_NAME "COAL OIL CANYON" *
QUADRANT NE *
NORTH_LATITUDE 35 07 30.000 *
WEST_LONGITUDE -119 03 45.000 *
SOUTH_LATITUDE 35 03 45.000 *
EAST_LONGITUDE -119 00 00.000 *
PRODUCTION_DATE 1998 12 07 *
RASTER_ORDER LEFT_RIGHT/TOP_BOTTOM *
BAND_ORGANIZATION "SINGLE FILE" *
BAND_CONTENT BLACK&WHITE *
BITS_PER_PIXEL 8 *
SAMPLES_AND_LINES 6570 7680 *
HORIZONTAL_DATUM NAD83 *
HORIZONTAL_COORDINATE_SYSTEM UTM *
COORDINATE_ZONE 11 *
HORIZONTAL_UNITS METERS *
HORIZONTAL_RESOLUTION 1.000 *
SECONDARY_HORIZONTAL_DATUM NAD27 *
XY_ORIGIN 311520.000 3889170.000 *
SECONDARY_XY_ORIGIN 311601.238 3888974.146 *
NATION US *
STATE CA *
NW_QUAD_CORNER_XY 312066.292 3888851.928 *
NE_QUAD_CORNER_XY 317762.053 3888735.698 *
SE_QUAD_CORNER_XY 317622.871 3881803.135 *
SW_QUAD_CORNER_XY 311922.755 3881919.273 *
SECONDARY_NW_QUAD_XY 312061.930 3888654.034 *
SECONDARY_NE_QUAD_XY 317757.824 3888537.801 *
SECONDARY_SE_QUAD_XY 317618.645 3881605.425 *
SECONDARY_SW_QUAD_XY 311918.397 3881721.566 *
RMSE_XY 1.910 *
IMAGE_SOURCE "BLACK AND WHITE FILM" *
SOURCE_IMAGE_ID "NAPP 6921 250" *
SOURCE_IMAGE_DATE 1994 09 03 *
SOURCE_DEM_DATE 1973 00 00 *
AGENCY "WESTERN MAPPING CENTER (WMC)" *
PRODUCER "ANALYTICAL SURVEYS INC." *
PRODUCTION_SYSTEM "ORBIT OR_RECTIFY V.5.2" *
STANDARD_VERSION 1996 12 *
METADATA_DATE 1998 12 09 *
DATA_FILE_SIZE 50464170 *
BYTE_COUNT 6570 * * * * * * * * * * * * * * * * * * * * * * * * * * * * * * * * * * * * * * * *
END_USGS_HEADER *
