BEGIN_USGS_DOQ_HEADER *
QUADRANGLE_NAME "COAL OIL CANYON" *
QUADRANT NW *
NORTH_LATITUDE 35 07 30.000 *
WEST_LONGITUDE -119 07 30.000 *
SOUTH_LATITUDE 35 03 45.000 *
EAST_LONGITUDE -119 03 45.000 *
PRODUCTION_DATE 1998 12 07 *
RASTER_ORDER LEFT_RIGHT/TOP_BOTTOM *
BAND_ORGANIZATION "SINGLE FILE" *
BAND_CONTENT BLACK&WHITE *
BITS_PER_PIXEL 8 *
SAMPLES_AND_LINES 6570 7680 *
HORIZONTAL_DATUM NAD83 *
HORIZONTAL_COORDINATE_SYSTEM UTM *
COORDINATE_ZONE 11 *
HORIZONTAL_UNITS METERS *
HORIZONTAL_RESOLUTION 1.000 *
SECONDARY_HORIZONTAL_DATUM NAD27 *
XY_ORIGIN 305820.000 3889290.000 *
SECONDARY_XY_ORIGIN 305901.290 3889094.038 *
NATION US *
STATE CA *
NW_QUAD_CORNER_XY 306370.455 3888971.738 *
NE_QUAD_CORNER_XY 312066.292 3888851.928 *
SE_QUAD_CORNER_XY 311922.755 3881919.273 *
SW_QUAD_CORNER_XY 306222.562 3882038.990 *
SECONDARY_NW_QUAD_XY 306365.960 3888773.847 *
SECONDARY_NE_QUAD_XY 312061.930 3888654.034 *
SECONDARY_SE_QUAD_XY 311918.397 3881721.566 *
SECONDARY_SW_QUAD_XY 306218.072 3881841.285 *
RMSE_XY 1.300 *
IMAGE_SOURCE "BLACK AND WHITE FILM" *
SOURCE_IMAGE_ID "NAPP 6927 147" *
SOURCE_IMAGE_DATE 1994 09 04 *
SOURCE_DEM_DATE 1973 00 00 *
AGENCY "WESTERN MAPPING CENTER (WMC)" *
PRODUCER "ANALYTICAL SURVEYS INC." *
PRODUCTION_SYSTEM "ORBIT OR_RECTIFY V.5.2" *
STANDARD_VERSION 1996 12 *
METADATA_DATE 1998 12 09 *
DATA_FILE_SIZE 50464170 *
BYTE_COUNT 6570 * * * * * * * * * * * * * * * * * * * * * * * * * * * * * * * * * * * * * * * *
END_USGS_HEADER *
