BEGIN_USGS_DOQ_HEADER *
QUADRANGLE_NAME "COAL OIL CANYON" *
QUADRANT SE *
NORTH_LATITUDE 35 03 45.000 *
WEST_LONGITUDE -119 03 45.000 *
SOUTH_LATITUDE 35 00 00.000 *
EAST_LONGITUDE -119 00 00.000 *
PRODUCTION_DATE 1998 12 07 *
RASTER_ORDER LEFT_RIGHT/TOP_BOTTOM *
BAND_ORGANIZATION "SINGLE FILE" *
BAND_CONTENT BLACK&WHITE *
BITS_PER_PIXEL 8 *
SAMPLES_AND_LINES 6570 7680 *
HORIZONTAL_DATUM NAD83 *
HORIZONTAL_COORDINATE_SYSTEM UTM *
COORDINATE_ZONE 11 *
HORIZONTAL_UNITS METERS *
HORIZONTAL_RESOLUTION 1.000 *
SECONDARY_HORIZONTAL_DATUM NAD27 *
XY_ORIGIN 311370.000 3882240.000 *
SECONDARY_XY_ORIGIN 311451.332 3882044.139 *
NATION US *
STATE CA *
NW_QUAD_CORNER_XY 311922.755 3881919.273 *
NE_QUAD_CORNER_XY 317622.871 3881803.135 *
SE_QUAD_CORNER_XY 317483.906 3874870.635 *
SW_QUAD_CORNER_XY 311779.442 3874986.681 *
SECONDARY_NW_QUAD_XY 311918.397 3881721.566 *
SECONDARY_NE_QUAD_XY 317618.645 3881605.425 *
SECONDARY_SE_QUAD_XY 317479.684 3874673.113 *
SECONDARY_SW_QUAD_XY 311775.088 3874789.162 *
RMSE_XY 1.510 *
IMAGE_SOURCE "BLACK AND WHITE FILM" *
SOURCE_IMAGE_ID "NAPP 6921 248" *
SOURCE_IMAGE_DATE 1994 09 03 *
SOURCE_IMAGE_ID "NAPP 6927 149" *
SOURCE_IMAGE_DATE 1994 09 04 *
SOURCE_DEM_DATE 1973 00 00 *
AGENCY "WESTERN MAPPING CENTER (WMC)" *
PRODUCER "ANALYTICAL SURVEYS INC." *
PRODUCTION_SYSTEM "ORBIT OR_RECTIFY V.5.2" *
STANDARD_VERSION 1996 12 *
METADATA_DATE 1999 01 13 *
DATA_FILE_SIZE 50464170 *
BYTE_COUNT 6570 * * * * * * * * * * * * * * * * * * * * * * * * * * * * * * * * * * * * * *
END_USGS_HEADER *
