BEGIN_USGS_DOQ_HEADER *
QUADRANGLE_NAME "CONNER SW" *
QUADRANT NW *
NORTH_LATITUDE 35 07 30.000 *
WEST_LONGITUDE -119 15 00.000 *
SOUTH_LATITUDE 35 03 45.000 *
EAST_LONGITUDE -119 11 15.000 *
PRODUCTION_DATE 1998 12 02 *
RASTER_ORDER LEFT_RIGHT/TOP_BOTTOM *
BAND_ORGANIZATION "SINGLE FILE" *
BAND_CONTENT BLACK&WHITE *
BITS_PER_PIXEL 8 *
SAMPLES_AND_LINES 6570 7680 *
HORIZONTAL_DATUM NAD83 *
HORIZONTAL_COORDINATE_SYSTEM UTM *
COORDINATE_ZONE 11 *
HORIZONTAL_UNITS METERS *
HORIZONTAL_RESOLUTION 1.000 *
SECONDARY_HORIZONTAL_DATUM NAD27 *
XY_ORIGIN 294420.000 3889530.000 *
SECONDARY_XY_ORIGIN 294501.394 3889333.821 *
NATION US *
STATE CA *
NW_QUAD_CORNER_XY 294978.542 3889222.105 *
NE_QUAD_CORNER_XY 300674.539 3889095.131 *
SE_QUAD_CORNER_XY 300522.290 3882162.285 *
SW_QUAD_CORNER_XY 294821.937 3882289.159 *
SECONDARY_NW_QUAD_XY 294973.783 3889024.220 *
SECONDARY_NE_QUAD_XY 300669.912 3888897.243 *
SECONDARY_SE_QUAD_XY 300517.667 3881964.583 *
SECONDARY_SW_QUAD_XY 294817.182 3882091.461 *
RMSE_XY 0.800 *
IMAGE_SOURCE "BLACK AND WHITE FILM" *
SOURCE_IMAGE_ID "NAPP 6927 44" *
SOURCE_IMAGE_DATE 1994 09 04 *
SOURCE_DEM_DATE 1992 00 00 *
AGENCY "WESTERN MAPPING CENTER (WMC)" *
PRODUCER "ANALYTICAL SURVEYS INC." *
PRODUCTION_SYSTEM "ORBIT OR_RECTIFY V.5.2" *
STANDARD_VERSION 1996 12 *
METADATA_DATE 1998 12 03 *
DATA_FILE_SIZE 50464170 *
BYTE_COUNT 6570 * * * * * * * * * * * * * * * * * * * * * * * * * * * * * * * * * * * * * * * *
END_USGS_HEADER *
