BEGIN_USGS_DOQ_HEADER *
QUADRANGLE_NAME "CONNER SW" *
QUADRANT SW *
NORTH_LATITUDE 35 03 45.000 *
WEST_LONGITUDE -119 15 00.000 *
SOUTH_LATITUDE 35 00 00.000 *
EAST_LONGITUDE -119 11 15.000 *
PRODUCTION_DATE 1998 12 02 *
RASTER_ORDER LEFT_RIGHT/TOP_BOTTOM *
BAND_ORGANIZATION "SINGLE FILE" *
BAND_CONTENT BLACK&WHITE *
BITS_PER_PIXEL 8 *
SAMPLES_AND_LINES 6570 7680 *
HORIZONTAL_DATUM NAD83 *
HORIZONTAL_COORDINATE_SYSTEM UTM *
COORDINATE_ZONE 11 *
HORIZONTAL_UNITS METERS *
HORIZONTAL_RESOLUTION 1.000 *
SECONDARY_HORIZONTAL_DATUM NAD27 *
XY_ORIGIN 294270.000 3882600.000 *
SECONDARY_XY_ORIGIN 294351.500 3882403.817 *
NATION US *
STATE CA *
NW_QUAD_CORNER_XY 294821.937 3882289.159 *
NE_QUAD_CORNER_XY 300522.290 3882162.285 *
SE_QUAD_CORNER_XY 300370.279 3875229.500 *
SW_QUAD_CORNER_XY 294665.576 3875356.273 *
SECONDARY_NW_QUAD_XY 294817.182 3882091.461 *
SECONDARY_NE_QUAD_XY 300517.667 3881964.583 *
SECONDARY_SE_QUAD_XY 300365.660 3875031.986 *
SECONDARY_SW_QUAD_XY 294660.825 3875158.763 *
RMSE_XY 1.420 *
IMAGE_SOURCE "BLACK AND WHITE FILM" *
SOURCE_IMAGE_ID "NAPP 6927 46" *
SOURCE_IMAGE_DATE 1994 09 04 *
SOURCE_DEM_DATE 1992 00 00 *
AGENCY "WESTERN MAPPING CENTER (WMC)" *
PRODUCER "ANALYTICAL SURVEYS INC." *
PRODUCTION_SYSTEM "ORBIT OR_RECTIFY V.5.2" *
STANDARD_VERSION 1996 12 *
METADATA_DATE 1998 12 03 *
DATA_FILE_SIZE 50464170 *
BYTE_COUNT 6570 * * * * * * * * * * * * * * * * * * * * * * * * * * * * * * * * * * * * * * * *
END_USGS_HEADER *
