BEGIN_USGS_DOQ_HEADER *
QUADRANGLE_NAME "PENTLAND" *
QUADRANT NE *
NORTH_LATITUDE 35 07 30.000 *
WEST_LONGITUDE -119 18 45.000 *
SOUTH_LATITUDE 35 03 45.000 *
EAST_LONGITUDE -119 15 00.000 *
PRODUCTION_DATE 1998 12 02 *
RASTER_ORDER LEFT_RIGHT/TOP_BOTTOM *
BAND_ORGANIZATION "SINGLE FILE" *
BAND_CONTENT BLACK&WHITE *
BITS_PER_PIXEL 8 *
SAMPLES_AND_LINES 6570 7710 *
HORIZONTAL_DATUM NAD83 *
HORIZONTAL_COORDINATE_SYSTEM UTM *
COORDINATE_ZONE 11 *
HORIZONTAL_UNITS METERS *
HORIZONTAL_RESOLUTION 1.000 *
SECONDARY_HORIZONTAL_DATUM NAD27 *
XY_ORIGIN 288720.000 3889680.000 *
SECONDARY_XY_ORIGIN 288801.490 3889483.751 *
NATION US *
STATE CA *
NW_QUAD_CORNER_XY 289282.463 3889352.662 *
NE_QUAD_CORNER_XY 294978.542 3889222.105 *
SE_QUAD_CORNER_XY 294821.937 3882289.159 *
SW_QUAD_CORNER_XY 289121.500 3882419.613 *
SECONDARY_NW_QUAD_XY 289277.571 3889154.780 *
SECONDARY_NE_QUAD_XY 294973.783 3889024.220 *
SECONDARY_SE_QUAD_XY 294817.182 3882091.461 *
SECONDARY_SW_QUAD_XY 289116.613 3882221.918 *
RMSE_XY 1.210 *
IMAGE_SOURCE "BLACK AND WHITE FILM" *
SOURCE_IMAGE_ID "NAPP 6925 245" *
SOURCE_IMAGE_DATE 1994 06 01 *
SOURCE_DEM_DATE 1968 00 00 *
AGENCY "WESTERN MAPPING CENTER (WMC)" *
PRODUCER "ANALYTICAL SURVEYS INC." *
PRODUCTION_SYSTEM "ORBIT OR_RECTIFY V.5.2" *
STANDARD_VERSION 1996 12 *
METADATA_DATE 1998 12 03 *
DATA_FILE_SIZE 50661270 *
BYTE_COUNT 6570 * * * * * * * * * * * * * * * * * * * * * * * * * * * * * * * * * * * * * * * *
END_USGS_HEADER *
