BEGIN_USGS_DOQ_HEADER *
QUADRANGLE_NAME "PENTLAND" *
QUADRANT SW *
NORTH_LATITUDE 35 03 45.000 *
WEST_LONGITUDE -119 22 30.000 *
SOUTH_LATITUDE 35 00 00.000 *
EAST_LONGITUDE -119 18 45.000 *
PRODUCTION_DATE 1998 12 02 *
RASTER_ORDER LEFT_RIGHT/TOP_BOTTOM *
BAND_ORGANIZATION "SINGLE FILE" *
BAND_CONTENT BLACK&WHITE *
BITS_PER_PIXEL 8 *
SAMPLES_AND_LINES 6600 7710 *
HORIZONTAL_DATUM NAD83 *
HORIZONTAL_COORDINATE_SYSTEM UTM *
COORDINATE_ZONE 11 *
HORIZONTAL_UNITS METERS *
HORIZONTAL_RESOLUTION 1.000 *
SECONDARY_HORIZONTAL_DATUM NAD27 *
XY_ORIGIN 282840.000 3882870.000 *
SECONDARY_XY_ORIGIN 282921.702 3882673.679 *
NATION US *
STATE CA *
NW_QUAD_CORNER_XY 283420.977 3882553.647 *
NE_QUAD_CORNER_XY 289121.500 3882419.613 *
SE_QUAD_CORNER_XY 288960.788 3875486.624 *
SW_QUAD_CORNER_XY 283255.914 3875620.552 *
SECONDARY_NW_QUAD_XY 283415.958 3882355.955 *
SECONDARY_NE_QUAD_XY 289116.613 3882221.918 *
SECONDARY_SE_QUAD_XY 288955.906 3875289.116 *
SECONDARY_SW_QUAD_XY 283250.900 3875423.047 *
RMSE_XY 2.790 *
IMAGE_SOURCE "BLACK AND WHITE FILM" *
SOURCE_IMAGE_ID "NAPP 6925 50" *
SOURCE_IMAGE_DATE 1994 06 01 *
SOURCE_DEM_DATE 1968 00 00 *
AGENCY "WESTERN MAPPING CENTER (WMC)" *
PRODUCER "ANALYTICAL SURVEYS INC." *
PRODUCTION_SYSTEM "ORBIT OR_RECTIFY V.5.2" *
STANDARD_VERSION 1996 12 *
METADATA_DATE 1998 12 03 *
DATA_FILE_SIZE 50892600 *
BYTE_COUNT 6600 * * * * * * * * * * * * * * * * * * * * * * * * * * * * * * * * * * * * * * * *
END_USGS_HEADER *
