BEGIN_USGS_DOQ_HEADER *
QUADRANGLE_NAME "MARICOPA" *
QUADRANT SW *
NORTH_LATITUDE 35 03 45.000 *
WEST_LONGITUDE -119 30 00.000 *
SOUTH_LATITUDE 35 00 00.000 *
EAST_LONGITUDE -119 26 15.000 *
PRODUCTION_DATE 1998 12 02 *
RASTER_ORDER LEFT_RIGHT/TOP_BOTTOM *
BAND_ORGANIZATION "SINGLE FILE" *
BAND_CONTENT BLACK&WHITE *
BITS_PER_PIXEL 8 *
SAMPLES_AND_LINES 6600 7710 *
HORIZONTAL_DATUM NAD83 *
HORIZONTAL_COORDINATE_SYSTEM UTM *
COORDINATE_ZONE 11 *
HORIZONTAL_UNITS METERS *
HORIZONTAL_RESOLUTION 1.000 *
SECONDARY_HORIZONTAL_DATUM NAD27 *
XY_ORIGIN 271440.000 3883140.000 *
SECONDARY_XY_ORIGIN 271521.900 3882943.537 *
NATION US *
STATE CA *
NW_QUAD_CORNER_XY 272019.664 3882832.457 *
NE_QUAD_CORNER_XY 277720.366 3882691.262 *
SE_QUAD_CORNER_XY 277550.952 3875758.057 *
SW_QUAD_CORNER_XY 271845.898 3875899.141 *
SECONDARY_NW_QUAD_XY 272014.381 3882634.772 *
SECONDARY_NE_QUAD_XY 277715.215 3882493.573 *
SECONDARY_SE_QUAD_XY 277545.805 3875560.556 *
SECONDARY_SW_QUAD_XY 271840.619 3875701.643 *
RMSE_XY 3.960 *
IMAGE_SOURCE "BLACK AND WHITE FILM" *
SOURCE_IMAGE_ID "NAPP 6924 246" *
SOURCE_IMAGE_DATE 1994 05 29 *
SOURCE_DEM_DATE 1942 00 00 *
AGENCY "WESTERN MAPPING CENTER (WMC)" *
PRODUCER "ANALYTICAL SURVEYS INC." *
PRODUCTION_SYSTEM "ORBIT OR_RECTIFY V.5.2" *
STANDARD_VERSION 1996 12 *
METADATA_DATE 1998 12 03 *
DATA_FILE_SIZE 50892600 *
BYTE_COUNT 6600 * * * * * * * * * * * * * * * * * * * * * * * * * * * * * * * * * * * * * * * *
END_USGS_HEADER *
