BEGIN_USGS_DOQ_HEADER *
QUADRANGLE_NAME "ELKHORN HILLS" *
QUADRANT NE *
NORTH_LATITUDE 35 07 30.000 *
WEST_LONGITUDE -119 33 45.000 *
SOUTH_LATITUDE 35 03 45.000 *
EAST_LONGITUDE -119 30 00.000 *
PRODUCTION_DATE 1998 12 01 *
RASTER_ORDER LEFT_RIGHT/TOP_BOTTOM *
BAND_ORGANIZATION "SINGLE FILE" *
BAND_CONTENT BLACK&WHITE *
BITS_PER_PIXEL 8 *
SAMPLES_AND_LINES 6600 7710 *
HORIZONTAL_DATUM NAD83 *
HORIZONTAL_COORDINATE_SYSTEM UTM *
COORDINATE_ZONE 11 *
HORIZONTAL_UNITS METERS *
HORIZONTAL_RESOLUTION 1.000 *
SECONDARY_HORIZONTAL_DATUM NAD27 *
XY_ORIGIN 265920.000 3890220.000 *
SECONDARY_XY_ORIGIN 266001.867 3890023.349 *
NATION US *
STATE CA *
NW_QUAD_CORNER_XY 266497.268 3889910.723 *
NE_QUAD_CORNER_XY 272193.702 3889765.831 *
SE_QUAD_CORNER_XY 272019.664 3882832.457 *
SW_QUAD_CORNER_XY 266318.870 3882977.234 *
SECONDARY_NW_QUAD_XY 266491.847 3889712.853 *
SECONDARY_NE_QUAD_XY 272188.414 3889567.959 *
SECONDARY_SE_QUAD_XY 272014.381 3882634.772 *
SECONDARY_SW_QUAD_XY 266313.454 3882779.552 *
RMSE_XY 3.550 *
IMAGE_SOURCE "BLACK AND WHITE FILM" *
SOURCE_IMAGE_ID "NAPP 6924 241" *
SOURCE_IMAGE_DATE 1994 05 29 *
SOURCE_DEM_DATE 1954 00 00 *
AGENCY "WESTERN MAPPING CENTER (WMC)" *
PRODUCER "ANALYTICAL SURVEYS INC." *
PRODUCTION_SYSTEM "ORBIT OR_RECTIFY V.5.2" *
STANDARD_VERSION 1996 12 *
METADATA_DATE 1998 12 08 *
DATA_FILE_SIZE 50892600 *
BYTE_COUNT 6600 * * * * * * * * * * * * * * * * * * * * * * * * * * * * * * * * * * * * * * * *
END_USGS_HEADER *
