BEGIN_USGS_DOQ_HEADER *
QUADRANGLE_NAME "ELKHORN HILLS" *
QUADRANT SW *
NORTH_LATITUDE 35 03 45.000 *
WEST_LONGITUDE -119 37 30.000 *
SOUTH_LATITUDE 35 00 00.000 *
EAST_LONGITUDE -119 33 45.000 *
PRODUCTION_DATE 1998 12 01 *
RASTER_ORDER LEFT_RIGHT/TOP_BOTTOM *
BAND_ORGANIZATION "SINGLE FILE" *
BAND_CONTENT BLACK&WHITE *
BITS_PER_PIXEL 8 *
SAMPLES_AND_LINES 6600 7710 *
HORIZONTAL_DATUM NAD83 *
HORIZONTAL_COORDINATE_SYSTEM UTM *
COORDINATE_ZONE 11 *
HORIZONTAL_UNITS METERS *
HORIZONTAL_RESOLUTION 1.000 *
SECONDARY_HORIZONTAL_DATUM NAD27 *
XY_ORIGIN 260040.000 3883440.000 *
SECONDARY_XY_ORIGIN 260122.124 3883243.151 *
NATION US *
STATE CA *
NW_QUAD_CORNER_XY 260617.980 3883125.594 *
NE_QUAD_CORNER_XY 266318.870 3882977.234 *
SE_QUAD_CORNER_XY 266140.750 3876043.803 *
SW_QUAD_CORNER_XY 260435.507 3876192.045 *
SECONDARY_NW_QUAD_XY 260612.432 3882927.915 *
SECONDARY_NE_QUAD_XY 266313.454 3882779.552 *
SECONDARY_SE_QUAD_XY 266135.339 3875846.309 *
SECONDARY_SW_QUAD_XY 260429.964 3875994.554 *
RMSE_XY 3.590 *
IMAGE_SOURCE "BLACK AND WHITE FILM" *
SOURCE_IMAGE_ID "NAPP 6924 179" *
SOURCE_IMAGE_DATE 1994 05 29 *
SOURCE_DEM_DATE 1954 00 00 *
AGENCY "WESTERN MAPPING CENTER (WMC)" *
PRODUCER "ANALYTICAL SURVEYS INC." *
PRODUCTION_SYSTEM "ORBIT OR_RECTIFY V.5.2" *
STANDARD_VERSION 1996 12 *
METADATA_DATE 1998 12 08 *
DATA_FILE_SIZE 50892600 *
BYTE_COUNT 6600 * * * * * * * * * * * * * * * * * * * * * * * * * * * * * * * * * * * * * * * *
END_USGS_HEADER *
